BEGIN:VCALENDAR
VERSION:2.0
PRODID:-//wp-events-plugin.com//7.2.3.1//EN
TZID:Australia/Melbourne
X-WR-TIMEZONE:Australia/Melbourne
BEGIN:VEVENT
UID:16625@home-ed.vic.edu.au
DTSTART;TZID=Australia/Melbourne:20251104T093000
DTEND;TZID=Australia/Melbourne:20251104T153000
DTSTAMP:20250310T014339Z
URL:https://home-ed.vic.edu.au/events/a-time-to-dance-melton-2025-11-04/
SUMMARY:A Time To Dance - Melton
DESCRIPTION:Tuesdays\n\n9am-3:30pm\n\nCost varies on individual enrolment -
  these classes run at cost and not for profit.\n\nPerforming Arts classes 
 in Ballet (including conditioning)\, Tap\, Musical Theatre\, Character\, A
 cro\, Lyrical/Contemporary\, Aerial\, Jazz\, Hip-hop and Choir - not alway
 s all available but depending on student and staff availability.\n\nwww.fa
 cebook.com/sarahattd 0412655882 sarahattd@outlook.com\n\nGalactic Studios\
 , 39 Collins Road Melton\n\nTerm 1: March 11\, 18\, 25\, April 1.\nTerm 2:
  April 11\, 29\, May 6\, 13\, 20\, 27\, June 3\, 10\, 17\, 24\, July 1\nTe
 rm 3: July 22\, 29\, August 5\, 12\, 19\, 26\, September 2\, 9\, 16\nTerm 
 4: October 7\, 14\, 21\, 28\, November 4\, 11\, 18\, 25\, December 2\, 9\,
  16\n\n&nbsp\;\n\n
ATTACH;FMTTYPE=image/jpeg:https://home-ed.vic.edu.au/wp-content/uploads/20
 25/01/A-time-to-dance.jpg
CATEGORIES:Regular Classes
LOCATION:Galactic Studios\, 1-2/39 Collins Road\, Melton\, Australia
GEO:-37.689785;144.594081
X-APPLE-STRUCTURED-LOCATION;VALUE=URI;X-ADDRESS=1-2/39 Collins Road\, Melto
 n\, Australia;X-APPLE-RADIUS=100;X-TITLE=Galactic Studios:geo:-37.689785,1
 44.594081
END:VEVENT
BEGIN:VTIMEZONE
TZID:Australia/Melbourne
X-LIC-LOCATION:Australia/Melbourne
BEGIN:DAYLIGHT
DTSTART:20251005T030000
TZOFFSETFROM:+1000
TZOFFSETTO:+1100
TZNAME:AEDT
END:DAYLIGHT
END:VTIMEZONE
END:VCALENDAR