BEGIN:VCALENDAR
VERSION:2.0
PRODID:-//wp-events-plugin.com//7.2.3.1//EN
TZID:Australia/Melbourne
X-WR-TIMEZONE:Australia/Melbourne
BEGIN:VEVENT
UID:17449@home-ed.vic.edu.au
DTSTART;TZID=Australia/Melbourne:20260311T130000
DTEND;TZID=Australia/Melbourne:20260311T143000
DTSTAMP:20260226T064451Z
URL:https://home-ed.vic.edu.au/events/adaptations/
SUMMARY:Adaptations @ STEM Zone (Drouin)
DESCRIPTION:SECONDARY Home-school STEM class 2026: Adaptations\nTo survive 
 in this world\, species have adapted to thrive in different environments. 
 \n\nStudents look at the changes in birds in the Galapagos Islands as well
  as ways in which animals have adapted to their changing environment.\n\nW
 HERE: STEM Zone | 81 Main South Road\, Drouin Vic 3818\nWHEN: 11 March 202
 6 at 1:00 pm\nCOST: $35\n\nCONTACT: Carissa | 0448 003 966 | hello@stemzon
 e.com.au\n\nBOOKINGS: https://www.stemzone.com.au/homeschool\n\n&nbsp\;\n\
 n&nbsp\;
ATTACH;FMTTYPE=image/jpeg:https://home-ed.vic.edu.au/wp-content/uploads/20
 26/02/STEM-Zone-Drouin.png
CATEGORIES:Regular Classes
LOCATION:Stem Zone\, 81 Main South Road\, Drouin \, Vic \, 3818\, Australia
GEO:-38.143766;145.851564
X-APPLE-STRUCTURED-LOCATION;VALUE=URI;X-ADDRESS=81 Main South Road\, Drouin
  \, Vic \, 3818\, Australia;X-APPLE-RADIUS=100;X-TITLE=Stem Zone:geo:-38.1
 43766,145.851564
END:VEVENT
BEGIN:VTIMEZONE
TZID:Australia/Melbourne
X-LIC-LOCATION:Australia/Melbourne
BEGIN:DAYLIGHT
DTSTART:20251005T030000
TZOFFSETFROM:+1000
TZOFFSETTO:+1100
TZNAME:AEDT
END:DAYLIGHT
END:VTIMEZONE
END:VCALENDAR