BEGIN:VCALENDAR
VERSION:2.0
PRODID:-//wp-events-plugin.com//7.2.3.1//EN
TZID:Australia/Melbourne
X-WR-TIMEZONE:Australia/Melbourne
BEGIN:VEVENT
UID:17330@home-ed.vic.edu.au
DTSTART;TZID=Australia/Melbourne:20260223T133000
DTEND;TZID=Australia/Melbourne:20260223T150000
DTSTAMP:20260104T064120Z
URL:https://home-ed.vic.edu.au/events/art-classes-the-artist-coop-7-12yrs-
 montsalvat-4/
SUMMARY:Art Classes @ The Artist Coop (7 - 12yrs) (Montsalvat)
DESCRIPTION:Art Classes @ The Artist Coop (7 - 12yrs) (Montsalvat) - Term 1
  - Session Four\n\nFocusing on drawing skills\, illustrative foundations f
 rom cartoon - realism and larger project.\n\nTerm 1: Mondays 1.30pm - 3pm\
 n\nFebruary 2nd\, 9th\, 16th\, 23rd &amp\; March 2nd\, 16th\, 23rd &amp\; 
 30th\n\n$250 total and 10% sibling discount\n\nCONTACT: Jo Griggs\nEmail: 
 jo@theartistcoop.com.au\nMob: 0414800411\nWebsite: https://theartistcoop.c
 om.au\n\n7 Hillcrest Ave\, Eltham 3095\, Montsalvat\n\n&nbsp\;\n\n&nbsp\;
ATTACH;FMTTYPE=image/jpeg:https://home-ed.vic.edu.au/wp-content/uploads/20
 26/01/2026-The-artist-coop-Term-1.png
CATEGORIES:Regular Classes
LOCATION:The Artist Coop\, Monsalvat - 7 Hillcrest Avenue\, Eltham\, Austra
 lia
GEO:-37.728057;145.15359
X-APPLE-STRUCTURED-LOCATION;VALUE=URI;X-ADDRESS=Monsalvat - 7 Hillcrest Ave
 nue\, Eltham\, Australia;X-APPLE-RADIUS=100;X-TITLE=The Artist Coop:geo:-3
 7.728057,145.15359
END:VEVENT
BEGIN:VTIMEZONE
TZID:Australia/Melbourne
X-LIC-LOCATION:Australia/Melbourne
BEGIN:DAYLIGHT
DTSTART:20251005T030000
TZOFFSETFROM:+1000
TZOFFSETTO:+1100
TZNAME:AEDT
END:DAYLIGHT
END:VTIMEZONE
END:VCALENDAR