BEGIN:VCALENDAR
VERSION:2.0
PRODID:-//wp-events-plugin.com//7.2.3.1//EN
TZID:Australia/Melbourne
X-WR-TIMEZONE:Australia/Melbourne
BEGIN:VEVENT
UID:17390@home-ed.vic.edu.au
DTSTART;TZID=Australia/Melbourne:20260227T100000
DTEND;TZID=Australia/Melbourne:20260227T113000
DTSTAMP:20260125T053120Z
URL:https://home-ed.vic.edu.au/events/art-classes-with-jess-13-16yo-berwic
 k-5/
SUMMARY:Art Classes with Jess 13-16yo (Berwick)
DESCRIPTION:Art Classes (Teen)\nTeen art classes: fun opportunities to expe
 riment with a wide variety of art mediums and techniques\; including drawi
 ng (pencil\, charcoal\, watercolour pencils)\, painting (acrylics\, waterc
 olour\, pastels) and mixed media. These home-based classes will help your 
 child to develop their creativity and expand their artistic skills.\n\nAGE
 S: 13 - 16\nDATE: Term 1 running - Friday mornings from 30th Jan 2026 --&g
 t\; 27th Mar 2026\nTIME: 10am-11:30am\nLOCATION: Berwick\, VIC (not far fr
 om Berwick Main Street)\nTERM COST: $260 pp (all art materials are include
 d)\n\nCONTACT: Jess Shepstone\nPlease email: jg.shepstone@gmail.com\nor se
 nd a message: 0424 233 998\n\n*Primary age\, online &amp\; one on one less
 ons also available.
ATTACH;FMTTYPE=image/jpeg:https://home-ed.vic.edu.au/wp-content/uploads/20
 26/01/2026-Art-with-Jess-Berwick.jpg
CATEGORIES:Regular Classes
LOCATION:Art Classes in Berwick with Jess\, Berwick Victoria 3806\, Austral
 ia
GEO:-38.026421;145.347533
X-APPLE-STRUCTURED-LOCATION;VALUE=URI;X-ADDRESS=Berwick Victoria 3806\, Aus
 tralia;X-APPLE-RADIUS=100;X-TITLE=Art Classes in Berwick with Jess:geo:-38
 .026421,145.347533
END:VEVENT
BEGIN:VTIMEZONE
TZID:Australia/Melbourne
X-LIC-LOCATION:Australia/Melbourne
BEGIN:DAYLIGHT
DTSTART:20251005T030000
TZOFFSETFROM:+1000
TZOFFSETTO:+1100
TZNAME:AEDT
END:DAYLIGHT
END:VTIMEZONE
END:VCALENDAR