BEGIN:VCALENDAR
VERSION:2.0
PRODID:-//wp-events-plugin.com//7.2.3.1//EN
TZID:Australia/Melbourne
X-WR-TIMEZONE:Australia/Melbourne
BEGIN:VEVENT
UID:17383@home-ed.vic.edu.au
DTSTART;TZID=Australia/Melbourne:20260318T131500
DTEND;TZID=Australia/Melbourne:20260318T141500
DTSTAMP:20260125T051900Z
URL:https://home-ed.vic.edu.au/events/art-classes-with-jess-8-12-yo-berwic
 k-6/
SUMMARY:Art Classes with Jess 8-12 yo (Berwick)
DESCRIPTION:Art Classes (Primary)\nPrimary aged art classes: fun opportunit
 ies to experiment with a wide variety of art mediums and techniques\; incl
 uding drawing (pencil\, charcoal\, watercolour pencils)\, painting (acryli
 cs\, watercolour\, pastels) and mixed media. These home-based classes will
  help your child to develop their creativity and expand their artistic ski
 lls.\n\nAGES: 8 - 12\nDATE: Term 1 running - Wednesday afternoons from 4th
  Feb 2026 --&gt\; 1st Apr 2026\nTIME: 1:15pm-2:15pm\nLOCATION: Berwick\, V
 IC (not far from Berwick Main Street)\nTERM COST: $200 pp (all art materia
 ls are included)\n\nCONTACT: Jess Shepstone\nPlease email: jg.shepstone@gm
 ail.com\nor send a message: 0424 233 998\n\n*Teenage\, online &amp\; one o
 n one lessons also available.
ATTACH;FMTTYPE=image/jpeg:https://home-ed.vic.edu.au/wp-content/uploads/20
 26/01/2026-Art-with-Jess-Berwick.jpg
CATEGORIES:Regular Classes
LOCATION:Art Classes in Berwick with Jess\, Berwick Victoria 3806\, Austral
 ia
GEO:-38.026421;145.347533
X-APPLE-STRUCTURED-LOCATION;VALUE=URI;X-ADDRESS=Berwick Victoria 3806\, Aus
 tralia;X-APPLE-RADIUS=100;X-TITLE=Art Classes in Berwick with Jess:geo:-38
 .026421,145.347533
END:VEVENT
BEGIN:VTIMEZONE
TZID:Australia/Melbourne
X-LIC-LOCATION:Australia/Melbourne
BEGIN:DAYLIGHT
DTSTART:20251005T030000
TZOFFSETFROM:+1000
TZOFFSETTO:+1100
TZNAME:AEDT
END:DAYLIGHT
END:VTIMEZONE
END:VCALENDAR