BEGIN:VCALENDAR
VERSION:2.0
PRODID:-//wp-events-plugin.com//7.2.3.1//EN
TZID:Australia/Melbourne
X-WR-TIMEZONE:Australia/Melbourne
BEGIN:VEVENT
UID:16498@home-ed.vic.edu.au
DTSTART;TZID=Australia/Melbourne:20251020T000000
DTEND;TZID=Australia/Melbourne:20251024T000000
DTSTAMP:20250206T012620Z
URL:https://home-ed.vic.edu.au/events/bimbi-park-camp/
SUMMARY:Bimbi Park Camp
DESCRIPTION:Bookings direct through the park: https://bimbipark.com.au/\n\n
 For the most up to date information please join the Facebook group for Hom
 eschool Camps Victoria\n\n\n\n2024 details below - 2025 will be similar - 
 pricing may change slightly\n\nWith ‘old trades and science theme’\n\n
 \nCome join the annual home school migration to Bimbi Park for heaps of fu
 n\, friends\, adventure\, old crafts\, learning and wildlife.\nBimbi Park 
 is in Cape Otway ( centre of the great ocean road) nestled in magnificent 
 forest\, beaches\, secluded bays and spectacular coastlines. Sheltered amo
 ngst tall manna gums filled with koalas and possums and far away from the 
 wearing noises of towns and traffic.\n\n\n\nOPTIONAL ACTIVITIES DETAILS\n\
 n\nDaily activities will be written on a whiteboard at camp kitchen daily.
 \n\n\nOptional activities planned for the week will include…\n( please n
 ote none of these are booked with the park. They will be booked at camp wi
 th the people running them. Don’t stress there will be heaps of spots)\n
 \n\nThere will be a meet and greet with free sausage sizzle ( sponsored by
  HEN ) on the first night at camp kitchen starting at 6:30-7pm ish. A grea
 t chance to come and meet new homeschoolers and catch up with old mates. A
 ll details of activities and info will be shared here.\n(There will be lim
 ited options for vego and dietary needs.)\n\n\nThere will be a free stuff/
  swap table at the camp kitchen for anyone wanting to rehome some toys\, b
 ooks\, clothes etc.\n\n\n\nSCIENCE /DINOSAUR ACTIVITIES \n\n\nThis year we
  will be joined by the amazing Mike amd Pippa Cleeland!!!\nMike will be ru
 nning various workshops on dinosaurs and showing us real live prints he di
 scovered ( when he found a new species of dinosaur)\, geology and astronom
 y ( with amazing telescopes )\n\n\nART WORKSHOPS\n\n\nPip the acclaimed ar
 tist will be running various art workshops throughout camp. ( further deta
 ils to come)\n\n\n\nBLACKSMITHING WORKSHOPS\n\n\nThis will be onsite with 
 small groups working with an expert blacksmith to create their choice of t
 ake home metal work direct from a forge made and maintained by themselves.
  Small tools\, jewellery\, trinkets. Suitable for most ages ( with parenta
 l help for young ones). Bookings will be direct with the instructor at cam
 p. There will be 2 x 2-3hour workshops a day Tues\, wed\, thurs… 10:30 -
  12:30 ish\, 2:00- 4:00 ish. Murray will work with your kids as long as is
  needed/ wanted to complete what they are wanting to do. He isn’t always
  running on time but is awesome with kids and will give them all the one o
 n one time they need with his amazing patience and calm energy. He is the 
 real deal master tradesman. The meeting point will be at the rotunda near 
 the playground where you can meet Murray and add your kids name to an appr
 opriate time slot. There will be 8 small forges with 2 kids per forge work
 ing together (16 kids per session). Adult supervision will be required for
  kids 12 and under. Cost will be $40/ person for the first person then $30
  for each additional kid. cash only. There may be an advanced session on T
 hursday.\n\n\nBush Tanning and leatherwork\n\n\nBookings will be direct wi
 th the amazing bush tanner ( who learnt the trade with First Nations inAla
 ska). Once in a lifetime opportunity to learn from the best in this almost
  forgotten trade.\nAgain this will be onsite ( at a tiny house) and suitab
 le for most ages ( including adults)\nJosh will be at camp Tuesday and run
  a series of workshops. There will be part 1 in the morning and part 2 in 
 the arvo to allow everyone to have a go. He can have 10-15 in each worksho
 p (parents/ caregivers can support a child/ participant if needed at no co
 st). Session times will be 9am-10am\, 10am-11am\, 11am-12pm...... price in
 cludes the afternoon workshop for learning how to soften and other instruc
 tions for your hide 1-2pm\, 2-3pm\, and 3-4pm. He will also have scrapers 
 for sale $50 each and leather balms \, small tin $20 and large tin $30.\nT
 he rabbit tanningworkshops will involve being supplied with a pelt\, learn
 ing how to scrape and tan a rabbit skin. He will also talk about the diffe
 rent tanning methods with samples. It will be $30pp. Or $50 for 2 in the s
 ame family. Children under the age of 8 will need a parent/ guardian with 
 them (those not tanning and supporting a child are FREE).\nAt the end of t
 he workshop you will take home your very own leather pelt to keep and the 
 knowledge ( that Josh has learnt over his lifetime) of how to tan and trea
 t leather for the rest of your days . Josh is amazing and such a great ins
 piration for kids and adults alike . We are very lucky he on board.\n\n\nL
 eather\n\n\nThere will be pop-up leather bracelet making sessions. Childre
 n and adults will have the opportunity to make their own unique bracelet u
 sing embossing techniques and an exclusive Bimbi camp ink stamp creating t
 he perfect camp souvenir. $15 each. Appropriate for all ages.\n\n\nOutdoor
  cinema (free) tue/wed night depending on weather.\n\n\nWe plan to have fi
 sh and chip night onsite Wednesday night… where you order your fresh\, l
 ocally caught\, fish/ seafood and pick it up when it’s ready. Cash/ card
 . ( prepare yourself as it’s the best I’ve Eva had!). Please note- Thi
 s is dependent on finding enough staff.\n\n\nWe will have a pizza night on
 site Thursday night… select your choice of toppings and watch as your pi
 zza is cooked in the outdoor stone fired oven ready for you to enjoy ( can
  cater for GF\, DF and many dietary requirements\, or cook a pizza you hav
 e prepared yourself in the oven). You just pay them for what you want dire
 ctly when you order. Cash/ card.\n\n\nThursday night ( last night) 7 pm\nT
 o finish the week on a high will be the awesome Bush Dance under the stars
  with the amazing Ken Hooke.\nDig out your flanny and straw hat and prepar
 e for the hoe down! a night of fun for all ages.\nPaid direct to Ken on th
 e night 7/person or $15/ family ( cash/ card)\n\n\nThere are so many free 
 activities including\; free mini golf\, movie night at the outdoor cinema\
 , table tennis\, indoor board games and fuzball\, puzzles\, liabrary\, lou
 nge with wood fire\, bike riding track\, fire pits\, marshmallow cooking\,
  koala watching\, walking the amazing great ocean road\, dinosaur fossil h
 unting\, beach\, tree climbing\, kite flying\, nerf wars\, cops and robber
 s etc… Limited only by your imagination \n( no need to book these. There
  will be plenty of opportunity for everyone)\n\n\nThere is nearby Otway li
 ght house to explore ( entry cost)\n\n\n\n\nFACILITIES\nThere is a fantast
 ic camp kitchen with plenty of fridge space etc. fresh water on site. Amaz
 ing facilities ( tokens needed for showers that can be bought at office on
  entry)\n\n\nAccomodation to suit everyone and every budget including…\n
 * prices included are per night for 2 ppl only\n* extra kids are $10/ kid 
 for the first 2 then the rest are free for camping \n\n\n• unpowered sit
 es $35/ night\n• powered site $39/ night\n• bunk house $55/ night ( ma
 y be some noise from nearby bunkers)\n•pod $59/ night ( check the map as
  they are a fair walk away from camp kitchen etc\, nice and quiet/ seclude
 d)\n• onsite vintage van $99/ night\n• cabins $99.25- $169- 189/ night
 \n\n\nAll details of accommodation are available online.\n\n\nThe majority
  of the park will be homeschoolers!!\n\n\nGET IN EARLY as it will book out
  quick with walkers and it’s easy to cancel then get in later ** especia
 lly with accommodation!!\n\n\nBOOKINGS ARE DIRECTLY With Bimbi Park\nSay y
 ou are with the home school group ( Jac)\nKatrina in the office is fantast
 ic and they really make a great effort for us \n\n\n0352379246\nInfo@bimbi
 park.com.au\n\n\nAddress is 9 Manna gum Drive\, Cape Otway Vic\n\n\n\nALL 
 YOU NEED TO DO TO COME IS BOOK ACCOMODATION WITH BIMBI PARK.\n
ATTACH;FMTTYPE=image/jpeg:https://home-ed.vic.edu.au/wp-content/uploads/20
 25/02/Bimbi-Park-Camp-2025.png
CATEGORIES:Special Events,Special Events - SA
LOCATION:Bimbi Park Camp\, 9 Manna Gum Drive\, Cape Otway\, Vic\, 3233\, Au
 stralia
GEO:-38.8330115;143.51591410000003
X-APPLE-STRUCTURED-LOCATION;VALUE=URI;X-ADDRESS=9 Manna Gum Drive\, Cape Ot
 way\, Vic\, 3233\, Australia;X-APPLE-RADIUS=100;X-TITLE=Bimbi Park Camp:ge
 o:-38.8330115,143.51591410000003
END:VEVENT
BEGIN:VTIMEZONE
TZID:Australia/Melbourne
X-LIC-LOCATION:Australia/Melbourne
BEGIN:DAYLIGHT
DTSTART:20251005T030000
TZOFFSETFROM:+1000
TZOFFSETTO:+1100
TZNAME:AEDT
END:DAYLIGHT
END:VTIMEZONE
END:VCALENDAR