BEGIN:VCALENDAR
VERSION:2.0
PRODID:-//wp-events-plugin.com//7.2.3.1//EN
TZID:Australia/Melbourne
X-WR-TIMEZONE:Australia/Melbourne
BEGIN:VEVENT
UID:17404@home-ed.vic.edu.au
DTSTART;TZID=Australia/Melbourne:20260601T110000
DTEND;TZID=Australia/Melbourne:20260601T133000
DTSTAMP:20260127T102111Z
URL:https://home-ed.vic.edu.au/events/bowling-and-laser-tag-point-cook-4/
SUMMARY:Bowling and Laser Tag (Point Cook)
DESCRIPTION:BOWLING &amp\; LASER TAG 🎳 (Point Cook)\n\nA casual homescho
 ol meet up\, no need to pre-book (unless you have a fun pass) just show up
 \, let them know you’re there for the Home school group booking\, pay $1
 5 &amp\; they’ll assign you to a bowling lane. Happy for you to nickname
  the lanes\, for eg ‘teens’\n\n🎳 If you already have a group of 5-6
  kids\, show up together &amp\; let them know you’d like to bowl on the 
 same lane together or maybe just mix it up &amp\; make some new friends al
 ong the way.\n\n🎳 Please wear runners/trainers or you can borrow their 
 groovy bowling shoes\, please bring your own socks.\n\n🎳 Please note\, 
 the venue is NOT a NUT FREE venue anymore. Please ensure you don’t bring
  any outside food. Feel free to order any food when paying your $15 - they
  can also put a ‘requested time’\, that you would like the food to com
 e out or enjoy some lunch at the lanes while bowling.\n\n🎳 There is par
 king underneath the venue\, it should be open from approx 10.50am. There i
 s also a handful of parking spots opposite the venue\, along the street in
  front of Williams Landing Train Station car park\, as we won’t be there
  during the parking restrictions.\n\nWhere: Strike - Point Cook\, 36 Wall
 ace Ave\, Point Cook.\nContact: Rebecca | rebecca_payne1@hotmail.com
ATTACH;FMTTYPE=image/jpeg:https://home-ed.vic.edu.au/wp-content/uploads/20
 26/01/2026-Bowling-LaserTag.jpg
CATEGORIES:Regular Classes
LOCATION:Strike Bowling Point Cook\, 36 Wallace Ave\, Point Cook\, Australi
 a
GEO:-37.872316;144.747297
X-APPLE-STRUCTURED-LOCATION;VALUE=URI;X-ADDRESS=36 Wallace Ave\, Point Cook
 \, Australia;X-APPLE-RADIUS=100;X-TITLE=Strike Bowling Point Cook:geo:-37.
 872316,144.747297
END:VEVENT
BEGIN:VTIMEZONE
TZID:Australia/Melbourne
X-LIC-LOCATION:Australia/Melbourne
BEGIN:STANDARD
DTSTART:20260405T020000
TZOFFSETFROM:+1100
TZOFFSETTO:+1000
TZNAME:AEST
END:STANDARD
END:VTIMEZONE
END:VCALENDAR