BEGIN:VCALENDAR
VERSION:2.0
PRODID:-//wp-events-plugin.com//7.2.3.1//EN
TZID:Australia/Melbourne
X-WR-TIMEZONE:Australia/Melbourne
BEGIN:VEVENT
UID:17344@home-ed.vic.edu.au
DTSTART;TZID=Australia/Melbourne:20260204T103000
DTEND;TZID=Australia/Melbourne:20260204T143000
DTSTAMP:20260104T074715Z
URL:https://home-ed.vic.edu.au/events/connect-through-cooking-creation-con
 versation-teen-group-12-18yrs-black-rock/
SUMMARY:Connect through Cooking\, Creation & Conversation - Teen Group (12 
 -18yrs)  (Black Rock)
DESCRIPTION: Connect through Cooking\, Creation &amp\; Conversation - Teen 
 Group (12 -18yrs)\n\nWednesdays every week of term 1: 10:30am - 2:30pm\nBl
 ack Rock Civic Hall - 574-576 Balcombe Rd\, Black Rock (see more locations
  below)\n\nWeekly Cooking Sessions\nFrom planning and budgeting to selecti
 ng recipes and learning how to cook\, we’ll cover it all — and share t
 he delicious results together.\n\nLife Skills That Matter\nGuest speakers 
 who “get it” — from career advisors to emotional intelligence coache
 s — offering real-life advice on everything from decoding body language 
 to navigating the online world.\n\nGenuine Conversations\nIt’s not just 
 about learning — it’s about connecting. Share stories\, build friendsh
 ips\, and grow your confidence in a supportive\, judgment-free space.\n\nA
  Community That Lasts\nMore than a program — this is a place to belong. 
 A group to grow with. A community to cherish.\n\nFor Teens aged 12 to 18.\
 nBring your water bottle\, we supply snack\, drinks (coffee/tea\, water) a
 nd the teens with parent mentoring will be cooking lunch.\n\nFrom $20 per 
 child (term discount / casual fee available) (parents free)\n\nBOOKINGS: h
 ttps://www.heroesoftoday.org/cooking-creation-conversation \n\nCONTACT: T
 racey Hall - CEO Heroes of Today\nEmail: hello@heroesoftoday.org\nWebsite:
  www.heroesoftoday.org\n\nLOCATIONS\nTuesday every week of term: Bayside C
 hurch - 99-101 Argus Street\, Cheltenham VIC 3192\nWednesday every week of
  term: Black Rock Civic Hall - 574-576 Balcombe Rd\, Black Rock\nThursday 
 every week of term: Monash Community Inn - 72 Clayton Road\, Clayton 3168\
 n
ATTACH;FMTTYPE=image/jpeg:https://home-ed.vic.edu.au/wp-content/uploads/20
 26/01/2026-Heroes-of-Today.jpg
CATEGORIES:Regular Classes
LOCATION:Black Rock Civic Hall\, 574-576 Balcombe Rd\, Black Rock\, VIC\, 
GEO:-37.975467;145.018974
X-APPLE-STRUCTURED-LOCATION;VALUE=URI;X-ADDRESS=574-576 Balcombe Rd\, Black
  Rock\, VIC\, ;X-APPLE-RADIUS=100;X-TITLE=Black Rock Civic Hall:geo:-37.97
 5467,145.018974
END:VEVENT
BEGIN:VTIMEZONE
TZID:Australia/Melbourne
X-LIC-LOCATION:Australia/Melbourne
BEGIN:DAYLIGHT
DTSTART:20251005T030000
TZOFFSETFROM:+1000
TZOFFSETTO:+1100
TZNAME:AEDT
END:DAYLIGHT
END:VTIMEZONE
END:VCALENDAR