BEGIN:VCALENDAR
VERSION:2.0
PRODID:-//wp-events-plugin.com//7.2.3.1//EN
TZID:Australia/Melbourne
X-WR-TIMEZONE:Australia/Melbourne
BEGIN:VEVENT
UID:17342@home-ed.vic.edu.au
DTSTART;TZID=Australia/Melbourne:20260324T103000
DTEND;TZID=Australia/Melbourne:20260324T143000
DTSTAMP:20260104T073240Z
URL:https://home-ed.vic.edu.au/events/connect-through-cooking-creation-con
 versation-teen-group-12-18yrs-cheltenham-8/
SUMMARY:Connect through Cooking\, Creation & Conversation - Teen Group (12 
 -18yrs)  (Cheltenham)
DESCRIPTION: Connect through Cooking\, Creation &amp\; Conversation - Teen 
 Group (12 -18yrs)\n\nTuesdays every week of term 1: 10:30am - 2:30pm\nBays
 ide Church - 99-101 Argus Street\, Cheltenham VIC 3192 (see more locations
  below)\n\nWeekly Cooking Sessions\nFrom planning and budgeting to selecti
 ng recipes and learning how to cook\, we’ll cover it all — and share t
 he delicious results together.\n\nLife Skills That Matter\nGuest speakers 
 who “get it” — from career advisors to emotional intelligence coache
 s — offering real-life advice on everything from decoding body language 
 to navigating the online world.\n\nGenuine Conversations\nIt’s not just 
 about learning — it’s about connecting. Share stories\, build friendsh
 ips\, and grow your confidence in a supportive\, judgment-free space.\n\nA
  Community That Lasts\nMore than a program — this is a place to belong. 
 A group to grow with. A community to cherish.\n\nFor Teens aged 12 to 18.\
 nBring your water bottle\, we supply snack\, drinks (coffee/tea\, water) a
 nd the teens with parent mentoring will be cooking lunch.\n\n$20 per child
  (parents free)\n\nBOOKINGS: https://www.heroesoftoday.org/cooking-creatio
 n-conversation \n\nCONTACT: Tracey Hall - CEO Heroes of Today\nEmail: hel
 lo@heroesoftoday.org\nWebsite: www.heroesoftoday.org\n\nLOCATIONS\nTuesday
  every week of term: Bayside Church - 99-101 Argus Street\, Cheltenham VIC
  3192\nWednesday every week of term: Black Rock Civic Hall - 574-576 Balco
 mbe Rd\, Black Rock\nThursday every week of term: Monash Community Inn - 7
 2 Clayton Road\, Clayton 3168\n
ATTACH;FMTTYPE=image/jpeg:https://home-ed.vic.edu.au/wp-content/uploads/20
 26/01/2026-Heroes-of-Today.jpg
CATEGORIES:Regular Classes
LOCATION:Bayside Church\, 99-101 Argus Street\, Cheltenham\, VIC\, 3192\, A
 ustralia
GEO:-37.959747;145.074707
X-APPLE-STRUCTURED-LOCATION;VALUE=URI;X-ADDRESS=99-101 Argus Street\, Chelt
 enham\, VIC\, 3192\, Australia;X-APPLE-RADIUS=100;X-TITLE=Bayside Church:g
 eo:-37.959747,145.074707
END:VEVENT
BEGIN:VTIMEZONE
TZID:Australia/Melbourne
X-LIC-LOCATION:Australia/Melbourne
BEGIN:DAYLIGHT
DTSTART:20251005T030000
TZOFFSETFROM:+1000
TZOFFSETTO:+1100
TZNAME:AEDT
END:DAYLIGHT
END:VTIMEZONE
END:VCALENDAR