BEGIN:VCALENDAR
VERSION:2.0
PRODID:-//wp-events-plugin.com//7.2.3.1//EN
TZID:Australia/Melbourne
X-WR-TIMEZONE:Australia/Melbourne
BEGIN:VEVENT
UID:17357@home-ed.vic.edu.au
DTSTART;TZID=Australia/Melbourne:20260305T103000
DTEND;TZID=Australia/Melbourne:20260305T143000
DTSTAMP:20260104T080323Z
URL:https://home-ed.vic.edu.au/events/connect-through-cooking-creation-con
 versation-teen-group-12-18yrs-clayton-5/
SUMMARY:Connect through Cooking\, Creation & Conversation - Teen Group (12 
 -18yrs)  (Clayton)
DESCRIPTION: Connect through Cooking\, Creation &amp\; Conversation - Teen 
 Group (12 -18yrs)\n\nThursdays every week of term 1: 10:30am - 2:30pm\nMon
 ash Community Inn - 72 Clayton Road\, Clayton 3168 (see more locations bel
 ow)\n\nWeekly Cooking Sessions\nFrom planning and budgeting to selecting r
 ecipes and learning how to cook\, we’ll cover it all — and share the d
 elicious results together.\n\nLife Skills That Matter\nGuest speakers who 
 “get it” — from career advisors to emotional intelligence coaches 
 — offering real-life advice on everything from decoding body language to
  navigating the online world.\n\nGenuine Conversations\nIt’s not just ab
 out learning — it’s about connecting. Share stories\, build friendship
 s\, and grow your confidence in a supportive\, judgment-free space.\n\nA C
 ommunity That Lasts\nMore than a program — this is a place to belong. A 
 group to grow with. A community to cherish.\n\nFor Teens aged 12 to 18.\nB
 ring your water bottle\, we supply snack\, drinks (coffee/tea\, water) and
  the teens with parent mentoring will be cooking lunch.\n\nFrom $20 per ch
 ild (casual fee available) (parents free)\n\nBOOKINGS: https://www.heroeso
 ftoday.org/cooking-creation-conversation \n\nCONTACT: Tracey Hall - CEO H
 eroes of Today\nEmail: hello@heroesoftoday.org\nWebsite: www.heroesoftoday
 .org\n\nLOCATIONS\nTuesday every week of term: Bayside Church - 99-101 Arg
 us Street\, Cheltenham VIC 3192\nWednesday every week of term: Black Rock 
 Civic Hall - 574-576 Balcombe Rd\, Black Rock\nThursday every week of term
 : Monash Community Inn - 72 Clayton Road\, Clayton 3168\n
ATTACH;FMTTYPE=image/jpeg:https://home-ed.vic.edu.au/wp-content/uploads/20
 26/01/2026-Heroes-of-Today.jpg
CATEGORIES:Regular Classes
LOCATION:Monash Community Inn\, 72 Clayton Road\, Clayton\, VIC\, Australia
GEO:-37.904974;145.123892
X-APPLE-STRUCTURED-LOCATION;VALUE=URI;X-ADDRESS=72 Clayton Road\, Clayton\,
  VIC\, Australia;X-APPLE-RADIUS=100;X-TITLE=Monash Community Inn:geo:-37.9
 04974,145.123892
END:VEVENT
BEGIN:VTIMEZONE
TZID:Australia/Melbourne
X-LIC-LOCATION:Australia/Melbourne
BEGIN:DAYLIGHT
DTSTART:20251005T030000
TZOFFSETFROM:+1000
TZOFFSETTO:+1100
TZNAME:AEDT
END:DAYLIGHT
END:VTIMEZONE
END:VCALENDAR