BEGIN:VCALENDAR
VERSION:2.0
PRODID:-//wp-events-plugin.com//7.2.3.1//EN
TZID:Australia/Melbourne
X-WR-TIMEZONE:Australia/Melbourne
BEGIN:VEVENT
UID:17464@home-ed.vic.edu.au
DTSTART;TZID=Australia/Melbourne:20260716T103000
DTEND;TZID=Australia/Melbourne:20260716T143000
DTSTAMP:20260317T105011Z
URL:https://home-ed.vic.edu.au/events/cosmic-space-plants-plants4space-pri
 mary-3-6-melbourne/
SUMMARY:Cosmic Space Plants: Plants4Space (Primary 3 - 6) (Melbourne)
DESCRIPTION:Cosmic Space Plants - Plants 4 Space\nJoin the University of Me
 lbourne outreach team from the Australian Research Centre of Excellence Pl
 ants4Space for an exciting hands-on primary science years 3-6 workshop. Th
 is workshop explores food\, nutrition and plant science in the context of 
 space travel. In this interactive session\, participants will investigate 
 how astronauts eat\, why food tastes different in space\, and designing th
 e best meals to keep astronauts healthy on long missions to places like Ma
 rs.\n\nUsing the Space Salad Workbook\, participants will:\n\n 	Explore wh
 at happens to the human body in microgravity\n\n 	Conduct a taste experime
 nt to discover how smell and sight affect flavour\n\n 	Investigate the imp
 ortance of proteins\, fats\, carbohydrates and fibre for astronaut health\
 n\n 	Design and test their own “space salad” meal using simple biochem
 ical tests\n\nThe session connects space exploration\, nutrition science a
 nd plant biology\, showing how plants may support future astronauts by pro
 viding food\, oxygen and sustainable life-support systems. Hurry\, space i
 s limited to 30 participants per session.\n\nTwo sessions: Thursday 16 Jul
 y 2026\n10.30am - 12pm | 1.00pm to 2.30pm\n\nLOCATION: Level 3\, Redmond B
 arry Building 115\, The University of Melbourne\, Victoria 3010 Australia\
 n\nCONTACT / BOOKINGS: Dr Janine Oldfield | oldfieldj@unimelb.edu.au 
ATTACH;FMTTYPE=image/jpeg:https://home-ed.vic.edu.au/wp-content/uploads/20
 26/03/2026-PlantsforSpace.jpg
CATEGORIES:Regular Classes
LOCATION:The University of Melbourne\, Level 3\, Redmond Barry Building 115
 \, Melbourne\, Vic\, Australia
GEO:-37.796749;144.962742
X-APPLE-STRUCTURED-LOCATION;VALUE=URI;X-ADDRESS=Level 3\, Redmond Barry Bui
 lding 115\, Melbourne\, Vic\, Australia;X-APPLE-RADIUS=100;X-TITLE=The Uni
 versity of Melbourne:geo:-37.796749,144.962742
END:VEVENT
BEGIN:VTIMEZONE
TZID:Australia/Melbourne
X-LIC-LOCATION:Australia/Melbourne
BEGIN:STANDARD
DTSTART:20260405T020000
TZOFFSETFROM:+1100
TZOFFSETTO:+1000
TZNAME:AEST
END:STANDARD
END:VTIMEZONE
END:VCALENDAR