BEGIN:VCALENDAR
VERSION:2.0
PRODID:-//wp-events-plugin.com//7.2.3.1//EN
TZID:Australia/Melbourne
X-WR-TIMEZONE:Australia/Melbourne
BEGIN:VEVENT
UID:17045@home-ed.vic.edu.au
DTSTART;TZID=Australia/Melbourne:20251215T130000
DTEND;TZID=Australia/Melbourne:20251215T140000
DTSTAMP:20250505T225648Z
URL:https://home-ed.vic.edu.au/events/dance-class-for-teens-12-grovedale-2
 025-12-15/
SUMMARY:Junk! Dance Class For Teens 12+ (Grovedale)
DESCRIPTION:Each Monday in school term excluding public holidays \n\n1-2.00
 \n\n$10 per class \n\nJUNK! Dance Class For Teens\nAges 12+\n\nA mix of po
 pular commercial dance styles for fun and fitness\n\nAll welcome - Beginne
 r Friendly\n\nBookings a must: Chloe Patison chloepatison@gmail.com\n\nGro
 vedale Memorial Hall - Reserve Road Grovedale \n\n\n\n&nbsp\;\n\n&nbsp\;
ATTACH;FMTTYPE=image/jpeg:https://home-ed.vic.edu.au/wp-content/uploads/20
 25/05/junk-class.jpg
CATEGORIES:Regular Classes
LOCATION:Grovedale Memorial Hall\, 2A Reserve Rd\, Grovedale\, Victoria\, A
 ustralia
GEO:-38.205565;144.342105
X-APPLE-STRUCTURED-LOCATION;VALUE=URI;X-ADDRESS=2A Reserve Rd\, Grovedale\,
  Victoria\, Australia;X-APPLE-RADIUS=100;X-TITLE=Grovedale Memorial Hall:g
 eo:-38.205565,144.342105
END:VEVENT
BEGIN:VTIMEZONE
TZID:Australia/Melbourne
X-LIC-LOCATION:Australia/Melbourne
BEGIN:DAYLIGHT
DTSTART:20251005T030000
TZOFFSETFROM:+1000
TZOFFSETTO:+1100
TZNAME:AEDT
END:DAYLIGHT
END:VTIMEZONE
END:VCALENDAR