BEGIN:VCALENDAR
VERSION:2.0
PRODID:-//wp-events-plugin.com//7.2.3.1//EN
TZID:Australia/Melbourne
X-WR-TIMEZONE:Australia/Melbourne
BEGIN:VEVENT
UID:16476@home-ed.vic.edu.au
DTSTART;TZID=Australia/Melbourne:20251118T110000
DTEND;TZID=Australia/Melbourne:20251118T130000
DTSTAMP:20250203T195454Z
URL:https://home-ed.vic.edu.au/events/deakin-university-primary-art-progra
 m-burwood-2025-11-18/
SUMMARY:Deakin University Primary Art Program (Burwood)
DESCRIPTION:11:00 am - 1:00 pm\n\nFree\n\nVisit the Deakin University Art G
 allery and share a session led by Deakin University's Art Gallery educator
 \, Tabitha Davies.\n\nEnjoy a tour of the exhibition (30 mins) followed by
  a workshop (approximately 75 mins)\n\nTuesday 18th February\, Tuesday 29t
 h April\, Tuesday 22nd July\, Tuesday 9th September\,\, Tuesday 18th Novem
 ber\n\nSue notabrickinthewall@yahoo.com\n\nBooking details coming soon.\n\
 nDeakin University Burwood Campus Burwood\n\n
ATTACH;FMTTYPE=image/jpeg:https://home-ed.vic.edu.au/wp-content/uploads/20
 25/02/Deakin-University-Art-All-2025.png
CATEGORIES:Special Events
LOCATION:Deakin University Art Gallery\, Burwood Campus Building FA\, 221 B
 urwood Highway\, Burwood\, VIctoria\, 3125\, Australia
GEO:-37.847541;145.114945
X-APPLE-STRUCTURED-LOCATION;VALUE=URI;X-ADDRESS=Burwood Campus Building FA\
 , 221 Burwood Highway\, Burwood\, VIctoria\, 3125\, Australia;X-APPLE-RADI
 US=100;X-TITLE=Deakin University Art Gallery:geo:-37.847541,145.114945
END:VEVENT
BEGIN:VTIMEZONE
TZID:Australia/Melbourne
X-LIC-LOCATION:Australia/Melbourne
BEGIN:DAYLIGHT
DTSTART:20251005T030000
TZOFFSETFROM:+1000
TZOFFSETTO:+1100
TZNAME:AEDT
END:DAYLIGHT
END:VTIMEZONE
END:VCALENDAR