BEGIN:VCALENDAR
VERSION:2.0
PRODID:-//wp-events-plugin.com//7.2.3.1//EN
TZID:Australia/Melbourne
X-WR-TIMEZONE:Australia/Melbourne
BEGIN:VEVENT
UID:17450@home-ed.vic.edu.au
DTSTART;TZID=Australia/Melbourne:20260325T130000
DTEND;TZID=Australia/Melbourne:20260325T143000
DTSTAMP:20260226T064929Z
URL:https://home-ed.vic.edu.au/events/dissection-stem-zone-drouin/
SUMMARY:Dissection @ STEM Zone (Drouin)
DESCRIPTION:SECONDARY Home-school STEM class 2026: Dissection\nStudents wil
 l dissect one organism and their presenter will dissect a second different
  organism such as a fish and a rat (organisms to be confirmed). \n\nThey w
 ill compare the internal structures of two organisms and how they have cha
 nged to suit their environments. (One organism between two students to stu
 dy along with a teacher demonstration of a different organism).\n\nWHERE: 
 STEM Zone | 81 Main South Road\, Drouin Vic 3818\nWHEN: 25 March 2026 at 1
 :00 pm\nCOST: $35\n\nCONTACT: Carissa | 0448 003 966 | hello@stemzone.com.
 au\n\nBOOKINGS: https://www.stemzone.com.au/homeschool\n\n&nbsp\;\n\n&nbsp
 \;
ATTACH;FMTTYPE=image/jpeg:https://home-ed.vic.edu.au/wp-content/uploads/20
 26/02/STEM-Zone-Drouin.png
CATEGORIES:Regular Classes
LOCATION:Stem Zone\, 81 Main South Road\, Drouin \, Vic \, 3818\, Australia
GEO:-38.143766;145.851564
X-APPLE-STRUCTURED-LOCATION;VALUE=URI;X-ADDRESS=81 Main South Road\, Drouin
  \, Vic \, 3818\, Australia;X-APPLE-RADIUS=100;X-TITLE=Stem Zone:geo:-38.1
 43766,145.851564
END:VEVENT
BEGIN:VTIMEZONE
TZID:Australia/Melbourne
X-LIC-LOCATION:Australia/Melbourne
BEGIN:DAYLIGHT
DTSTART:20251005T030000
TZOFFSETFROM:+1000
TZOFFSETTO:+1100
TZNAME:AEDT
END:DAYLIGHT
END:VTIMEZONE
END:VCALENDAR