BEGIN:VCALENDAR
VERSION:2.0
PRODID:-//wp-events-plugin.com//7.2.3.1//EN
TZID:Australia/Melbourne
X-WR-TIMEZONE:Australia/Melbourne
BEGIN:VEVENT
UID:17465@home-ed.vic.edu.au
DTSTART;TZID=Australia/Melbourne:20260325T100000
DTEND;TZID=Australia/Melbourne:20260325T120000
DTSTAMP:20260317T114556Z
URL:https://home-ed.vic.edu.au/events/easter-crafts-park-play-catch-up-wer
 ribee/
SUMMARY:Easter Crafts & Park Play Catch Up (Werribee)
DESCRIPTION:Easter Crafts &amp\; Park Play Catch Up (Werribee)\nWe’d love
  for you to join us for two special weeks of Easter fun and creativity!\n\
 nOn Wednesday\, March 25th at 10am\, we’ll begin with a lovely visit fro
 m Pastor Liz and Pastor Estelle\, who will share a short\, 15-minute prese
 ntation about the meaning and story of Easter. It’s a beautiful opportun
 ity for children to learn about Easter from a faith-based perspective in a
  gentle and engaging way.\n\nWe’re also very excited to be joined by the
  residents from our local Arcare\, making this a wonderful chance for conn
 ection across generations.\n\nAfterward\, we’ll move into a guided Easte
 r craft activity\, where the children will create adorable wooden spoon bu
 nnies (like the one pictured). All materials will be provided—just bring
  along your creativity!\n\nWe also invite parents to bring along supplies 
 to start designing Easter hats for our Easter Hat Parade\, which will take
  place the following week on Wednesday\, April 1st at 10am.\n\nFor those l
 ittle ones who are keen to keep creating after the bunny craft\, you’re 
 very welcome to stay and get a head start on your Easter hats.\n\nWe can
 ’t wait to celebrate\, create\, and enjoy this special time together!\n\
 nBOOKINGS: RSVP by 23rd April.\nMessage Jade on 0422 458 882 with the numb
 er of people attending so I can ensure there are plenty of craft supplies 
 for everyone.\n\nIf you have any questions at all\, feel free to reach out
 —I’m always happy to help!\n\nWHERE: Riverwalk Village Park\, Werribee
 \n\nCONTACT: Jade | 0422 458 882\n\n&nbsp\;
ATTACH;FMTTYPE=image/jpeg:https://home-ed.vic.edu.au/wp-content/uploads/20
 26/03/2026-Easter.jpg
CATEGORIES:Regular Classes
LOCATION:Riverwalk Village Park\, Newmarket Rd\, Werribee\, Australia
GEO:-37.918443;144.644008
X-APPLE-STRUCTURED-LOCATION;VALUE=URI;X-ADDRESS=Newmarket Rd\, Werribee\, A
 ustralia;X-APPLE-RADIUS=100;X-TITLE=Riverwalk Village Park:geo:-37.918443,
 144.644008
END:VEVENT
BEGIN:VTIMEZONE
TZID:Australia/Melbourne
X-LIC-LOCATION:Australia/Melbourne
BEGIN:DAYLIGHT
DTSTART:20251005T030000
TZOFFSETFROM:+1000
TZOFFSETTO:+1100
TZNAME:AEDT
END:DAYLIGHT
END:VTIMEZONE
END:VCALENDAR