BEGIN:VCALENDAR
VERSION:2.0
PRODID:-//wp-events-plugin.com//7.2.3.1//EN
TZID:Australia/Melbourne
X-WR-TIMEZONE:Australia/Melbourne
BEGIN:VEVENT
UID:17451@home-ed.vic.edu.au
DTSTART;TZID=Australia/Melbourne:20260327T103000
DTEND;TZID=Australia/Melbourne:20260327T113000
DTSTAMP:20260311T000526Z
URL:https://home-ed.vic.edu.au/events/educational-support-group-4-9yo-free
 -open-morning-introductory-session-for-term-2-fairfield/
SUMMARY:Educational Support Group (4 - 9yo) Free Open Morning Introductory 
 Session for Term 2 (Fairfield)
DESCRIPTION:Homeschool EDUCATIONAL SUPPORT\n\nFor ages 4 – 9 | Term 2 Fri
 days 10am–12pm\n\nFREE OPEN MORNING\n27 March 2026 10:30 – 11:30am at 
 FAIRFIELD COMMUNITY CENTRE\n84 ARTHUR STREET\, FAIRFIELD 3078 VIC\n\nEmail
  misszaplittlelearners@gmail.com to register for open day and receive enro
 lling form.\n\n 	Strong literacy &amp\; math foundations\n 	Confidence to 
 think\, question &amp\; explore\n 	Social skills &amp\; gentle teamwork\n 
 	Play‑based learning environment\n\n\nLed by former primary school teach
 er &amp\; homeschooling mum of four.\n\n24th April\, 1st May\, 8th May\, 1
 5th May\, 22nd May\, 29th May\, 5th June\, 12th June\, 19th June\, 26th Ju
 ne 2026\n\nTERM 2 START DATE: 24 April 2026\nTerm Fee: $300 | $50 addition
 al siblings\n\n&nbsp\;
ATTACH;FMTTYPE=image/jpeg:https://home-ed.vic.edu.au/wp-content/uploads/20
 26/03/2026-Term-2-Miss-Zap.jpg
CATEGORIES:Regular Classes
LOCATION:FAIRFIELD COMMUNITY CENTRE\, 84 ARTHUR STREET\, FAIRFIELD\, VIC\, 
 3078\, Australia
GEO:-37.777632;145.019284
X-APPLE-STRUCTURED-LOCATION;VALUE=URI;X-ADDRESS=84 ARTHUR STREET\, FAIRFIEL
 D\, VIC\, 3078\, Australia;X-APPLE-RADIUS=100;X-TITLE=FAIRFIELD COMMUNITY 
 CENTRE:geo:-37.777632,145.019284
END:VEVENT
BEGIN:VTIMEZONE
TZID:Australia/Melbourne
X-LIC-LOCATION:Australia/Melbourne
BEGIN:DAYLIGHT
DTSTART:20251005T030000
TZOFFSETFROM:+1000
TZOFFSETTO:+1100
TZNAME:AEDT
END:DAYLIGHT
END:VTIMEZONE
END:VCALENDAR