BEGIN:VCALENDAR
VERSION:2.0
PRODID:-//wp-events-plugin.com//7.2.3.1//EN
TZID:Australia/Melbourne
X-WR-TIMEZONE:Australia/Melbourne
BEGIN:VEVENT
UID:17461@home-ed.vic.edu.au
DTSTART;TZID=Australia/Melbourne:20260626T100000
DTEND;TZID=Australia/Melbourne:20260626T120000
DTSTAMP:20260311T001638Z
URL:https://home-ed.vic.edu.au/events/educational-support-group-4-9yo-term
 -2-fairfield-10/
SUMMARY:Educational Support Group (4 - 9yo) Term 2 (Fairfield)
DESCRIPTION:Homeschool EDUCATIONAL SUPPORT (Final Session for Term 2)\n\nFo
 r ages 4 – 9 | Term 2 Fridays 10am–12pm\n\n 	Strong literacy &amp\; ma
 th foundations\n 	Confidence to think\, question &amp\; explore\n 	Social 
 skills &amp\; gentle teamwork\n 	Play‑based learning environment\n\n\nLe
 d by former primary school teacher &amp\; homeschooling mum of four.\n\nCO
 NTACT / BOOKINGS: Zoe\nEmail: misszaplittlelearners@gmail.com\nInstagram @
 misszaplittlelearners\n\nWHERE: FAIRFIELD COMMUNITY CENTRE\n84 ARTHUR STRE
 ET\, FAIRFIELD 3078 VIC\n\nTERM 2 START DATE: 24 April 2026\nTerm Fee: $30
 0 | $50 additional siblings\n\nDates:\n24th April\, 1st May\, 8th May\, 15
 th May\, 22nd May\, 29th May\, 5th June\, 12th June\, 19th June\, 26th Jun
 e 2026
ATTACH;FMTTYPE=image/jpeg:https://home-ed.vic.edu.au/wp-content/uploads/20
 26/03/2026-Term-2-Miss-Zap.jpg
CATEGORIES:Regular Classes
LOCATION:FAIRFIELD COMMUNITY CENTRE\, 84 ARTHUR STREET\, FAIRFIELD\, VIC\, 
 3078\, Australia
GEO:-37.777632;145.019284
X-APPLE-STRUCTURED-LOCATION;VALUE=URI;X-ADDRESS=84 ARTHUR STREET\, FAIRFIEL
 D\, VIC\, 3078\, Australia;X-APPLE-RADIUS=100;X-TITLE=FAIRFIELD COMMUNITY 
 CENTRE:geo:-37.777632,145.019284
END:VEVENT
BEGIN:VTIMEZONE
TZID:Australia/Melbourne
X-LIC-LOCATION:Australia/Melbourne
BEGIN:STANDARD
DTSTART:20260405T020000
TZOFFSETFROM:+1100
TZOFFSETTO:+1000
TZNAME:AEST
END:STANDARD
END:VTIMEZONE
END:VCALENDAR