BEGIN:VCALENDAR
VERSION:2.0
PRODID:-//wp-events-plugin.com//7.2.3.1//EN
TZID:Australia/Melbourne
X-WR-TIMEZONE:Australia/Melbourne
BEGIN:VEVENT
UID:17528@home-ed.vic.edu.au
DTSTART;TZID=Australia/Melbourne:20261111T091500
DTEND;TZID=Australia/Melbourne:20261111T143000
DTSTAMP:20260413T101915Z
URL:https://home-ed.vic.edu.au/events/epidemiology-program/
SUMMARY:Epidemiology Program @ Casey Tech School (Berwick\, 12y-18y)
DESCRIPTION:To book you place\, click www.trybooking.com/DLEZA\n\n&nbsp\;\n
 \nHEN invites your family to Casey Tech School's epidemiology program!\n\n
 In this session\, kids will take on the roles of molecular biologists and 
 epidemiologists to investigate the mechanisms of viral infection. Using DN
 A based biotechnology and mathematical modelling\, we will identify viral 
 pathogens and trace the spread of a new virus through a model population. 
 We will then use technology and programming skills to develop a robot that
  could benefit society during times of viral outbreak. This program is dev
 eloped in partnership with Southern Biological\, &amp\; St John of God Hos
 pital has provided input into program creation regarding:\n\n 	Epidemiolog
 y and public health\n 	Mathematical modelling and network analysis\n 	Bioi
 nformatics\n 	Infectious disease research\n\nAttendees will learn:\n\n\n\n
  	Understand what epidemiology is and how we use network analysis to perfo
 rm contract tracing\n 	Use analytical techniques to analyse DNA samples of
  patients to identify a novel influenza virus\n 	Use design thinking proce
 sses and programming skills to prototype a robot which would benefit socie
 ty in a public health setting\n\n\n\nTo attend this event\, please note:\n
 \n 	This is a drop-off event:\n\n 	Families should arrive at 9.15am\, to b
 ring kids to Admin &amp\; handover before the 9.30am start time\n 	Adults 
 should return prior to 2.30pm\, to be sure you are present when the sessio
 n ends\n\n\n 	A digital permission form must be completed for each child b
 y Monday 13th at 12pm\, in order for children to be admitted\n 	Attendees 
 must be aged 12y-18y: sorry\, no siblings may attend\n 	Kids should bring 
 lunch &amp\; snacks\, and a water bottle\n\nThis is a free event. HEN memb
 ers only\, new members very welcome!\n\n&nbsp\;\n\nTo book you place\, cli
 ck www.trybooking.com/DLEZA
ATTACH;FMTTYPE=image/jpeg:https://home-ed.vic.edu.au/wp-content/uploads/20
 26/04/epi_1.webp
CATEGORIES:Special Events
LOCATION:Casey Tech School\, Building L\, 25 Kangan Drive\, Berwick Victori
 a 3806\, Australia
GEO:-38.042569;145.343515
X-APPLE-STRUCTURED-LOCATION;VALUE=URI;X-ADDRESS=Building L\, 25 Kangan Driv
 e\, Berwick Victoria 3806\, Australia;X-APPLE-RADIUS=100;X-TITLE=Casey Tec
 h School:geo:-38.042569,145.343515
END:VEVENT
BEGIN:VTIMEZONE
TZID:Australia/Melbourne
X-LIC-LOCATION:Australia/Melbourne
BEGIN:DAYLIGHT
DTSTART:20261004T030000
TZOFFSETFROM:+1000
TZOFFSETTO:+1100
TZNAME:AEDT
END:DAYLIGHT
END:VTIMEZONE
END:VCALENDAR