BEGIN:VCALENDAR
VERSION:2.0
PRODID:-//wp-events-plugin.com//7.2.3.1//EN
TZID:Australia/Melbourne
X-WR-TIMEZONE:Australia/Melbourne
BEGIN:VEVENT
UID:17316@home-ed.vic.edu.au
DTSTART;TZID=Australia/Melbourne:20260325T120000
DTEND;TZID=Australia/Melbourne:20260325T130000
DTSTAMP:20251215T030143Z
URL:https://home-ed.vic.edu.au/events/family-yoga-for-homeschool-kids-ages
 -6-12-reservoir-8/
SUMMARY:Family Yoga for Homeschool Kids (Ages 6-12) (Reservoir)
DESCRIPTION:Family Yoga for Homeschool Kids (Ages 6 - 12)\nHomeschooling fa
 milies are invited to weekly sessions of connection and relaxation at our 
 new Family Yoga program\, designed for children ages 6 - 12 to participate
  in together with their parent/carers and siblings. This is your chance to
  unplug from your busy lives and slow down to engage in self-care together
 . Each week\, you will stretch\, breathe and move together through simple 
 yoga poses. These exercises will help your child improve their self-confid
 ence\, focus\, strength and flexibility\, as well as nurture their mind-bo
 dy awareness. Bring your homeschooling friends or make some new ones in a 
 healthy and inclusive environment where all are welcome.\n\n&nbsp\;\n\n
 📆 When: Weekly Wednesday sessions in Term 1\, 2026 - 10 week term\n\nD
 ates: From 28 Jan - 1 Apr 2026\nTime: 12pm - 1pm\n\n- Session duration is 
 1 hour followed by light snack together\n- Casual passes also available\n\
 n\nWhat to bring/wear:\n\n\n 	Drink bottle of water and light snacks for a
 fter the session\n 	Wear comfortable clothing that you can move around in\
 n 	Warm clothes to put on for the relaxation (10 minutes) - Jumper/Hoodie 
 and Socks\n 	Tie up long hair where possible\n 	Yoga mats are provided\, h
 owever\, you're welcome to bring your own\n\nCONTACT: Ting Cheng 0433 063 
 136  | underthesky.kidsyoga@gmail.com\nInstagram @underthesky.kidsyoga\nF
 acebook - Under the Sky Kids Yoga \n\nCOSTS / BOOKINGS: https://events.hum
 anitix.com/family-yoga-for-homeschool-kids-ages-6-12 
ATTACH;FMTTYPE=image/jpeg:https://home-ed.vic.edu.au/wp-content/uploads/20
 25/12/2026-Family-Yoga.jpg
CATEGORIES:Regular Classes
LOCATION:Keon Park Children's Hub\, 1-7 Dole Ave\, Reservoir\, VIC\, Austra
 lia
GEO:-37.701183;145.021482
X-APPLE-STRUCTURED-LOCATION;VALUE=URI;X-ADDRESS=1-7 Dole Ave\, Reservoir\, 
 VIC\, Australia;X-APPLE-RADIUS=100;X-TITLE=Keon Park Children's Hub:geo:-3
 7.701183,145.021482
END:VEVENT
BEGIN:VTIMEZONE
TZID:Australia/Melbourne
X-LIC-LOCATION:Australia/Melbourne
BEGIN:DAYLIGHT
DTSTART:20251005T030000
TZOFFSETFROM:+1000
TZOFFSETTO:+1100
TZNAME:AEDT
END:DAYLIGHT
END:VTIMEZONE
END:VCALENDAR