BEGIN:VCALENDAR
VERSION:2.0
PRODID:-//wp-events-plugin.com//7.2.3.1//EN
TZID:Australia/Melbourne
X-WR-TIMEZONE:Australia/Melbourne
BEGIN:VEVENT
UID:17529@home-ed.vic.edu.au
DTSTART;TZID=Australia/Melbourne:20260515T123000
DTEND;TZID=Australia/Melbourne:20260515T134500
DTSTAMP:20260421T111924Z
URL:https://home-ed.vic.edu.au/events/forest-by-polyglot-royal-botanic-gar
 dens-cranbourne-5y-10y/
SUMMARY:'Forest' by Polyglot @ Royal Botanic Gardens Cranbourne (5y-10y)
DESCRIPTION:To book your free tickets\, visit www.trybooking.com/DLPJR \n\
 n&nbsp\;\n\nIn the forest\, tiny worlds meet giant worlds. Our imagination
 s breathe and our senses awaken. Listen. How does the forest call to you?\
 n\nHEN invites you to spend the day at the Royal Botanic Gardens Cranbourn
 e\, with something extra special amongst the trees.\n\n'Forest' is a brand
 -new immersive show set among the rustling trees of a real forest. In this
  bold production from Polyglot Theatre\, world-renowned for its distinctiv
 e\, participatory artistic ethos\, children aged 5-10 and their families a
 re invited to explore our connection to forests\, and the creatures and ch
 aracters within. Together with Polyglot performers\, rediscover the Royal 
 Botanic Gardens Cranbourne bushland\, creating and playing in the wild spa
 ces between the trees. Featuring design that delights and surprises\, and 
 a captivating musical composition guiding the journey\, Forest is a wondro
 us celebration of ecosystems and possibility.\n\nThis excursion is for one
  hour. Families are encouraged to arrive early or stay late\, to enjoy the
  rest of the gardens with old (or new) friends.\n\n 	Age: For children age
 d 5y-10y\, siblings of all ages welcome\n 	Price: free for all attendees. 
 Limit of one adult per family\, however other adults can attend the day &a
 mp\; wait outside (explore the gardens or have a coffee in the cafe)\n\nAn
  education resource will be made available closer to the date.\n\nHEN memb
 ers only\, new members very welcome!\n\nTo book your free tickets\, visit 
 www.trybooking.com/DLPJR 
ATTACH;FMTTYPE=image/jpeg:https://home-ed.vic.edu.au/wp-content/uploads/20
 26/04/2025-image-forest-development-nov-gresswell-laura-may-grogan-hr-9707
 -1-1.jpg
CATEGORIES:Special Events
LOCATION:Royal Botanic Gardens Cranbourne\, 1161 Ballarto Road\, Cranbourne
 \, Australia
X-APPLE-STRUCTURED-LOCATION;VALUE=URI;X-ADDRESS=1161 Ballarto Road\, Cranbo
 urne\, Australia;X-APPLE-RADIUS=100;X-TITLE=Royal Botanic Gardens Cranbour
 ne:geo:0,0
END:VEVENT
BEGIN:VTIMEZONE
TZID:Australia/Melbourne
X-LIC-LOCATION:Australia/Melbourne
BEGIN:STANDARD
DTSTART:20260405T020000
TZOFFSETFROM:+1100
TZOFFSETTO:+1000
TZNAME:AEST
END:STANDARD
END:VTIMEZONE
END:VCALENDAR