BEGIN:VCALENDAR
VERSION:2.0
PRODID:-//wp-events-plugin.com//7.2.3.1//EN
TZID:Australia/Melbourne
X-WR-TIMEZONE:Australia/Melbourne
BEGIN:VEVENT
UID:17524@home-ed.vic.edu.au
DTSTART;TZID=Australia/Melbourne:20261130T100000
DTEND;TZID=Australia/Melbourne:20261130T140000
DTSTAMP:20260409T104424Z
URL:https://home-ed.vic.edu.au/events/funfields-whittlesea-all-ages/
SUMMARY:Funfields (Whittlesea\, all ages)
DESCRIPTION:Full details\, including booking link\, to be confirmed later i
 n the year.
ATTACH;FMTTYPE=image/jpeg:https://home-ed.vic.edu.au/wp-content/uploads/20
 26/04/Funfields-Hype-Reel-16x9-1.jpg
CATEGORIES:Special Events
LOCATION:Funfields\, 2365 Plenty Road\, Whittlesea\, Vic\, Australia
X-APPLE-STRUCTURED-LOCATION;VALUE=URI;X-ADDRESS=2365 Plenty Road\, Whittles
 ea\, Vic\, Australia;X-APPLE-RADIUS=100;X-TITLE=Funfields:geo:0,0
END:VEVENT
BEGIN:VTIMEZONE
TZID:Australia/Melbourne
X-LIC-LOCATION:Australia/Melbourne
BEGIN:DAYLIGHT
DTSTART:20261004T030000
TZOFFSETFROM:+1000
TZOFFSETTO:+1100
TZNAME:AEDT
END:DAYLIGHT
END:VTIMEZONE
END:VCALENDAR