BEGIN:VCALENDAR
VERSION:2.0
PRODID:-//wp-events-plugin.com//7.2.3.1//EN
TZID:Australia/Melbourne
X-WR-TIMEZONE:Australia/Melbourne
BEGIN:VEVENT
UID:17251@home-ed.vic.edu.au
DTSTART;TZID=Australia/Melbourne:20251030T100000
DTEND;TZID=Australia/Melbourne:20251030T113000
DTSTAMP:20250928T022357Z
URL:https://home-ed.vic.edu.au/events/gaming-social-group-roblox-99-nights
 -in-the-forest-2025-10-30/
SUMMARY:Gaming Social Group - Roblox - 99 Nights in the Forest
DESCRIPTION:Let's Game Online Gaming Sessions\nOur social gaming sessions a
 t Let's Game are about more than just gaming. We provide a safe and suppor
 tive environment where children can enjoy gameplay while staying connected
  with others.\n\nEach session is supervised\, with moderators encouraging 
 engagement\, interaction\, problem-solving\, teamwork\, and friendship - s
 kills that children will carry with them for life.\n\nCurrently\, sessions
  are open to children aged 10-14 years and can be joined from the comfort 
 of home.\n\nChildren will need access to Roblox and Discord (for voice cha
 t). Please ensure accounts are set up and ready before sessions begin.\n\n
 Weekly on Thursdays: Starting 9th October \nTime: 10:00-11:30am\nCost: $1
 10 for 11 weeks\n\nContact: Tara\nEmail: connect@letsgame.online\nFacebook
 : https://www.facebook.com/letsgameyouth\nWebsite: letsgame.online \n\nBo
 okings: https://www.letsgame.online/product-page/99-nights-in-the-forest-h
 omeschoolers-10-14yo
ATTACH;FMTTYPE=image/jpeg:https://home-ed.vic.edu.au/wp-content/uploads/20
 25/09/2025-Roblox.jpg
CATEGORIES:Regular Classes
END:VEVENT
BEGIN:VTIMEZONE
TZID:Australia/Melbourne
X-LIC-LOCATION:Australia/Melbourne
BEGIN:DAYLIGHT
DTSTART:20251005T030000
TZOFFSETFROM:+1000
TZOFFSETTO:+1100
TZNAME:AEDT
END:DAYLIGHT
END:VTIMEZONE
END:VCALENDAR