BEGIN:VCALENDAR
VERSION:2.0
PRODID:-//wp-events-plugin.com//7.2.3.1//EN
TZID:Australia/Melbourne
X-WR-TIMEZONE:Australia/Melbourne
BEGIN:VEVENT
UID:17363@home-ed.vic.edu.au
DTSTART;TZID=Australia/Melbourne:20260203T134500
DTEND;TZID=Australia/Melbourne:20260203T160000
DTSTAMP:20260111T112223Z
URL:https://home-ed.vic.edu.au/events/guided-indigenous-walk-yidaki-medita
 tion-mccrae-5y-17y/
SUMMARY:Guided Indigenous Walk &amp\; Yidaki Meditation (McCrae\, 5y-17y)
DESCRIPTION:To book you family into this event\, visit www.trybooking.com/D
 IFMU\n\nExperience the beauty of the McCrae Foreshore in the picturesque M
 ornington Peninsula\, learning about the land\, its plants\, and the rich 
 cultural stories connected to it. Join us for two special events\, both ho
 sted by Living Culture:\nImmersive guided walk with Skyla\nThis guided wal
 k aims to empower\, educate and engage all different folks from different 
 backgrounds and ages and bring them in close contact to the land\, offerin
 g a deeper understanding of Country and connection to its history.\nYidaki
 -Led Meditation with Lionel\nA calming and inspiring experience. This sess
 ion blends traditional sound with reflection\, grounding participants in c
 ulture and mindfulness. A perfect experience to pause\, connect\, and refl
 ect.\n\nDETAILS\n\n 	For all ages\, 5y-17y. Younger siblings welcome\, but
  all attendees must hold a ticket. This event\, including the walk\, is pr
 am friendly.\n 	All tickets $28.35 each\n 	1.45pm arrival for a 2pm start\
 n 	Event is limited to 30 spaces only.\n\nHEN members only\, new members v
 ery welcome!\n\n&nbsp\;\n\nTo book you family into this event\, visit www.
 trybooking.com/DIFMU
ATTACH;FMTTYPE=image/jpeg:https://home-ed.vic.edu.au/wp-content/uploads/20
 26/01/1000077469.jpg
CATEGORIES:Special Events
LOCATION:McCrae Foreshore\, 676 Point Nepean Rd\, McCrae\,  Victoria \, 393
 8\, Australia
GEO:-38.348203;144.927897
X-APPLE-STRUCTURED-LOCATION;VALUE=URI;X-ADDRESS=676 Point Nepean Rd\, McCra
 e\,  Victoria \, 3938\, Australia;X-APPLE-RADIUS=100;X-TITLE=McCrae Foresh
 ore:geo:-38.348203,144.927897
END:VEVENT
BEGIN:VTIMEZONE
TZID:Australia/Melbourne
X-LIC-LOCATION:Australia/Melbourne
BEGIN:DAYLIGHT
DTSTART:20251005T030000
TZOFFSETFROM:+1000
TZOFFSETTO:+1100
TZNAME:AEDT
END:DAYLIGHT
END:VTIMEZONE
END:VCALENDAR