BEGIN:VCALENDAR
VERSION:2.0
PRODID:-//wp-events-plugin.com//7.2.3.1//EN
TZID:Australia/Melbourne
X-WR-TIMEZONE:Australia/Melbourne
BEGIN:VEVENT
UID:17276@home-ed.vic.edu.au
DTSTART;TZID=Australia/Melbourne:20251204T100000
DTEND;TZID=Australia/Melbourne:20251204T140000
DTSTAMP:20251014T070657Z
URL:https://home-ed.vic.edu.au/events/harvested-agricultural-education-pro
 gram-dookie-campus/
SUMMARY:HarvestEd Agricultural Education Program (Dookie campus)
DESCRIPTION:🌱 Agricultural Education Program for Year 7 - 10 Students (F
 ree)\n\n\nAsialink Education at the University of Melbourne and Goulburn M
 urray Landcare Network are excited to invite your students to a wonderful 
 face-to-face opportunity to explore the world of agriculture!\n\n✨ This 
 fully funded program (supported by the William Buckland Foundation) includ
 es two interactive and engaging F2F events:\n\n📅 Dates:\nShepparton –
  Wednesday 19th November (10am - 2pm)\nDookie campus\, University of Melbo
 urne – Thursday 4th December (10am - 2pm)\n\n\n✅ Open to Years 7–10 
 students\n✅ No prior agricultural knowledge required\n✅ Attend either 
 one or both days\n✅ Perfect to inspire students who are curious about ag
 ricultural pathways\, and also ideal for those who already have a strong i
 nterest in agriculture\n\nThis is a fantastic chance for your students to 
 experience hands-on agricultural learning in a university setting.\n\nBOOK
 INGS / CONTACT:  asialink-education@unimelb.edu.au\nMore Information: htt
 ps://asialink.unimelb.edu.au/education/2025-harvested-victoria/\n\n&nbsp\;
CATEGORIES:Regular Classes
LOCATION:Dookie Campus\, 940 Dookie-Nalinga Rd\, Dookie\, VIC\, 3647\, Aust
 ralia
GEO:-36.384556;145.706448
X-APPLE-STRUCTURED-LOCATION;VALUE=URI;X-ADDRESS=940 Dookie-Nalinga Rd\, Doo
 kie\, VIC\, 3647\, Australia;X-APPLE-RADIUS=100;X-TITLE=Dookie Campus:geo:
 -36.384556,145.706448
END:VEVENT
BEGIN:VTIMEZONE
TZID:Australia/Melbourne
X-LIC-LOCATION:Australia/Melbourne
BEGIN:DAYLIGHT
DTSTART:20251005T030000
TZOFFSETFROM:+1000
TZOFFSETTO:+1100
TZNAME:AEDT
END:DAYLIGHT
END:VTIMEZONE
END:VCALENDAR