BEGIN:VCALENDAR
VERSION:2.0
PRODID:-//wp-events-plugin.com//7.2.3.1//EN
TZID:Australia/Melbourne
X-WR-TIMEZONE:Australia/Melbourne
BEGIN:VEVENT
UID:17463@home-ed.vic.edu.au
DTSTART;TZID=Australia/Melbourne:20260428T111500
DTEND;TZID=Australia/Melbourne:20260428T120000
DTSTAMP:20260314T002539Z
URL:https://home-ed.vic.edu.au/events/hen-acmi-play-school-come-play-cbd-3
 y-8y/
SUMMARY:HEN @ ACMI: Play School - Come &amp\; Play! (CBD\, 3y-8y)
DESCRIPTION:To book\, visit www.trybooking.com/DKNVW\n\n&nbsp\;\nJoin us in
  celebrating Play School’s 60th anniversary. Discover what happens behin
 d the scenes of Play School. Be a presenter\, a camera operator\, or even 
 a director – there’s so much to explore. Climb aboard the Rocket Clock
 \, sing along with favourite songs\, and play your way through stories and
  games.\nAbout the exhibition:\nCelebrating 60 years of songs\, stories\, 
 and learning\, Play School: Come and Play! lets little ones peek behind th
 e scenes of Australia’s most beloved television show. Made with ACMI and
  ABC Originals\, it’s not a history lesson – it’s a hands-on\, playf
 ul exhibition where families can discover how Play School comes to life.\n
 A family resource can be found at www.acmi.net.au/education/school-progra
 m-and-resources/play-school-come-and-play-family-resource\nTime:\n11.15am 
 arrival for an 11.30am group entry &amp\; 12pm departure. Families may lik
 e to visit the free ACMI general exhibit afterwards\, which may take 1 hou
 r to enjoy (more if your kids like video games!).\nAges &amp\; Cost:\nThis
  event is for kinder- &amp\; school-aged children\, aged 3y-8y. Siblings a
 re welcome but any younger siblings should be booked separately via Genera
 l Admission rather than through the excursion\, at www.acmi.net.au/whats-
 on/play-school-come-and-play/ once availble (book the 11am timeslot).\nTh
 is is a free event. A $5 deposit per child will be refunded after the even
 t\, based on attendance.\nHEN members only\, new members very welcome!\n\n
 &nbsp\;\n\nTo book\, visit www.trybooking.com/DKNVW
ATTACH;FMTTYPE=image/jpeg:https://home-ed.vic.edu.au/wp-content/uploads/20
 26/03/Screenshot-2026-03-14-at-10-58-05-School-visits-–-Play-School-Come
 -and-Play-ACMI-Your-museum-of-screen-culture.png
CATEGORIES:Special Events
LOCATION:ACMI\, Federation Square\, Melbourne\, Vic\, Australia
GEO:-37.8632245;144.72603159999994
X-APPLE-STRUCTURED-LOCATION;VALUE=URI;X-ADDRESS=Federation Square\, Melbour
 ne\, Vic\, Australia;X-APPLE-RADIUS=100;X-TITLE=ACMI:geo:-37.8632245,144.7
 2603159999994
END:VEVENT
BEGIN:VTIMEZONE
TZID:Australia/Melbourne
X-LIC-LOCATION:Australia/Melbourne
BEGIN:STANDARD
DTSTART:20260405T020000
TZOFFSETFROM:+1100
TZOFFSETTO:+1000
TZNAME:AEST
END:STANDARD
END:VTIMEZONE
END:VCALENDAR