BEGIN:VCALENDAR
VERSION:2.0
PRODID:-//wp-events-plugin.com//7.2.3.1//EN
TZID:Australia/Melbourne
X-WR-TIMEZONE:Australia/Melbourne
BEGIN:VEVENT
UID:17484@home-ed.vic.edu.au
DTSTART;TZID=Australia/Melbourne:20260825T104500
DTEND;TZID=Australia/Melbourne:20260825T131500
DTSTAMP:20260414T014226Z
URL:https://home-ed.vic.edu.au/events/hen-deakin-uni-art-gallery-small-scu
 lptures-award-with-tabitha-davies-primary-ages/
SUMMARY:HEN @ Deakin Uni Art Gallery: Small Sculptures Award with Tabitha D
 avies (Primary ages)
DESCRIPTION:\n\n\n\nPrimary Program - 25th August 2026 10:45 - 1 pm  10:45
  - 1pm\n\n\n\n\nVisit the Deakin University Art Gallery and participate in
  a session led by Tabitha Davies\, the gallery's educator. This session is
  the Deakin University Small Sculpture Award. Tour the small sculptures co
 mpeting for a grand prize. A workshop following the small sculpture theme 
 will follow.\n\n\nThese sessions are exclusive to HEN members and are free
  for your family to attend. Parents/Carers are required to stay.\nNew memb
 ers welcome!\n\nHEN membership is $25.00 per year and can be purchased fro
 m the HEN website. https://home-ed.vic.edu.au\n\n\n\nBookings open 1st Jul
 y:\nhttps://www.trybooking.com/DJTDN\n\n
CATEGORIES:Special Events
LOCATION:Deakin University Art Gallery Building FA\, 221 Burwood Highway\, 
 Burwood\, Victoria\, 3125\, Australia
GEO:-37.847454;145.114643
X-APPLE-STRUCTURED-LOCATION;VALUE=URI;X-ADDRESS=221 Burwood Highway\, Burwo
 od\, Victoria\, 3125\, Australia;X-APPLE-RADIUS=100;X-TITLE=Deakin Univers
 ity Art Gallery Building FA:geo:-37.847454,145.114643
END:VEVENT
BEGIN:VTIMEZONE
TZID:Australia/Melbourne
X-LIC-LOCATION:Australia/Melbourne
BEGIN:STANDARD
DTSTART:20260405T020000
TZOFFSETFROM:+1100
TZOFFSETTO:+1000
TZNAME:AEST
END:STANDARD
END:VTIMEZONE
END:VCALENDAR