BEGIN:VCALENDAR
VERSION:2.0
PRODID:-//wp-events-plugin.com//7.2.3.1//EN
TZID:Australia/Melbourne
X-WR-TIMEZONE:Australia/Melbourne
BEGIN:VEVENT
UID:17440@home-ed.vic.edu.au
DTSTART;TZID=Australia/Melbourne:20260310T110000
DTEND;TZID=Australia/Melbourne:20260310T130000
DTSTAMP:20260217T011701Z
URL:https://home-ed.vic.edu.au/events/hen-deakin-university-sculpture-coll
 ection-tour-and-workshop-primary-school-ages/
SUMMARY:HEN @ Deakin University: Sculpture Collection Tour and Workshop (pr
 imary school ages)
DESCRIPTION:D
CATEGORIES:Special Events
LOCATION:Deakin University Art Gallery\, Burwood Campus Building FA\, 221 B
 urwood Highway\, Burwood\, VIctoria\, 3125\, Australia
GEO:-37.847541;145.114945
X-APPLE-STRUCTURED-LOCATION;VALUE=URI;X-ADDRESS=Burwood Campus Building FA\
 , 221 Burwood Highway\, Burwood\, VIctoria\, 3125\, Australia;X-APPLE-RADI
 US=100;X-TITLE=Deakin University Art Gallery:geo:-37.847541,145.114945
END:VEVENT
BEGIN:VTIMEZONE
TZID:Australia/Melbourne
X-LIC-LOCATION:Australia/Melbourne
BEGIN:DAYLIGHT
DTSTART:20251005T030000
TZOFFSETFROM:+1000
TZOFFSETTO:+1100
TZNAME:AEDT
END:DAYLIGHT
END:VTIMEZONE
END:VCALENDAR