BEGIN:VCALENDAR
VERSION:2.0
PRODID:-//wp-events-plugin.com//7.2.3.1//EN
TZID:Australia/Melbourne
X-WR-TIMEZONE:Australia/Melbourne
BEGIN:VEVENT
UID:16427@home-ed.vic.edu.au
DTSTART;TZID=Australia/Melbourne:20251205T093000
DTEND;TZID=Australia/Melbourne:20251205T170000
DTSTAMP:20251012T040951Z
URL:https://home-ed.vic.edu.au/events/hen-funfields-end-of-year-day-whittl
 esea-2025/
SUMMARY:HEN Funfields End of Year day - Whittlesea
DESCRIPTION:\nOur Funfields Event will be held on Friday 5th December 2025 
 \n\nTickets:\n\n\n 	Adults and Children 100cm tall and over - $39 per pers
 on\n\n\n\n\n 	Children under 100cm tall - Free\n\n\nArrive: 9:45 for a 10a
 m entry\n\nThere will be a section set aside for members to congregate if 
 they would like to.\nTo make your purchase for the event:\n\n 	Go to the m
 embers menu\, discounts section to find the booking link for the event. (Y
 ou will need to be logged in to access the members menu)\n 	As part of our
  entry requirements\, all staff (in our case - read parents) and students 
 are required to watch our Welcome Presentation Video prior to arrival. Thi
 s video outlines all the important do’s and don’ts for the day\, and h
 elps prepare everyone for a safe and enjoyable experience.\n\nClick here t
 o watch it: Funfields Theme Park School Excursions\nBookings close on 20th
  November\nUnderstand that: \n\n 	Parents remain responsible for their ch
 ildren at all times.\n 	Your HEN membership needs to be current on the day
  of the Funfields excursion.\n 	You cannot book tickets for other people w
 ho are not HEN members.\n 	You agree to take full responsibility for yours
 elf and each person in your booking and acknowledge that you have all watc
 hed the Funfields safety video\n 	You agree to visually supervise all chil
 dren in your care and will notify Funfields staff upon entry if any person
  in your booking is a weak or non-swimmer or will require extra time or as
 sistance on rides.\n\nAny questions\, please email: cindy@home-ed.vic.edu.
 au\n\nFunfields\n2365 Plenty Road\, Whittlesea\,\nVictoria 3757\, Australi
 a
ATTACH;FMTTYPE=image/jpeg:https://home-ed.vic.edu.au/wp-content/uploads/20
 25/01/Funfields.png
CATEGORIES:Special Events
LOCATION:Funfields\, 2365 Plenty Road\, Whittlesea\, Victoria\, 3757\, Aust
 ralia
GEO:-37.520009;145.111236
X-APPLE-STRUCTURED-LOCATION;VALUE=URI;X-ADDRESS=2365 Plenty Road\, Whittles
 ea\, Victoria\, 3757\, Australia;X-APPLE-RADIUS=100;X-TITLE=Funfields:geo:
 -37.520009,145.111236
END:VEVENT
BEGIN:VTIMEZONE
TZID:Australia/Melbourne
X-LIC-LOCATION:Australia/Melbourne
BEGIN:DAYLIGHT
DTSTART:20251005T030000
TZOFFSETFROM:+1000
TZOFFSETTO:+1100
TZNAME:AEDT
END:DAYLIGHT
END:VTIMEZONE
END:VCALENDAR