BEGIN:VCALENDAR
VERSION:2.0
PRODID:-//wp-events-plugin.com//7.2.3.1//EN
TZID:Australia/Melbourne
X-WR-TIMEZONE:Australia/Melbourne
BEGIN:VEVENT
UID:17287@home-ed.vic.edu.au
DTSTART;TZID=Australia/Melbourne:20260508T120000
DTEND;TZID=Australia/Melbourne:20260508T133000
DTSTAMP:20251024T080422Z
URL:https://home-ed.vic.edu.au/events/hen-mso-for-schools-beethovens-gamin
 g-quest-cbd-5y-12y/
SUMMARY:HEN@ MSO for Schools: Beethoven's Gaming Quest (CBD\, 5y-12y)
DESCRIPTION:Bookings open 6 March via  https://www.trybooking.com/DGYDQ\n\
 n&nbsp\;\n\nWhat if Beethoven was a video game composer? Dr Richard Vaudre
 y explores the power and emotion of some of Beethoven’s iconic orchestra
 l music to find the perfect musical elements to create the next spectacula
 r gaming score.\nAge &amp\; Prices:\nFor kids aged 5y-12y. Older siblings 
 welcome but sorry\, no preschool-aged siblings.\n\n$9 all tickets. Limit o
 f one adult per family.\nTimeframe:\n11.50am arrival for a 12.10pm entry &
 amp\; 12.30pm start. Doors close 12.30\, &amp\; late arrivals may not be a
 ble to enter. Event runs approximately 50 minutes.\nExtra info:\n\n 	Shoes
  required for entry\n 	No prams or strollers allowed\n 	Potentially non-al
 located seating: so first in best seated\n\n&nbsp\;\nHEN members only\, ne
 w members welcome!\nTo join us\, book via  https://www.trybooking.com/DGY
 DQ
ATTACH;FMTTYPE=image/jpeg:https://home-ed.vic.edu.au/wp-content/uploads/20
 25/10/2026-classic-kids-beethoven-gaming-quest-1200x800-1.jpg
CATEGORIES:Special Events
LOCATION:Hamer Hall\, 100 St Kilda Rd\, Southbank\, VIC\, 3004\, Australia
GEO:-37.820156;144.967981
X-APPLE-STRUCTURED-LOCATION;VALUE=URI;X-ADDRESS=100 St Kilda Rd\, Southbank
 \, VIC\, 3004\, Australia;X-APPLE-RADIUS=100;X-TITLE=Hamer Hall:geo:-37.82
 0156,144.967981
END:VEVENT
BEGIN:VTIMEZONE
TZID:Australia/Melbourne
X-LIC-LOCATION:Australia/Melbourne
BEGIN:STANDARD
DTSTART:20260405T020000
TZOFFSETFROM:+1100
TZOFFSETTO:+1000
TZNAME:AEST
END:STANDARD
END:VTIMEZONE
END:VCALENDAR