BEGIN:VCALENDAR
VERSION:2.0
PRODID:-//wp-events-plugin.com//7.2.3.1//EN
TZID:Australia/Melbourne
X-WR-TIMEZONE:Australia/Melbourne
BEGIN:VEVENT
UID:17286@home-ed.vic.edu.au
DTSTART;TZID=Australia/Melbourne:20260828T120000
DTEND;TZID=Australia/Melbourne:20260828T133000
DTSTAMP:20251024T075901Z
URL:https://home-ed.vic.edu.au/events/hen-mso-for-schools-carnival-of-the-
 animals/
SUMMARY:HEN@ MSO for Schools: Carnival of the Animals
DESCRIPTION:Bookings open Friday 26th June at https://www.trybooking.com/D
 GYEL\n\n&nbsp\;\n\nGet ready to stomp\, swoop\, and swim through a wild mu
 sical adventure with Carnival of the Animals by Camille Saint-Saëns! This
  concert features a parade of musical creatures\, including some new anima
 l-inspired pieces — from tiptoeing tortoises to a roaring lion — all b
 rought to life by the MSO with pictures drawn by you!\n\nSend us your colo
 urful\, creative drawings of any of the animals featured in the music (lis
 t below). Your artwork could be part of a spectacular projection shown liv
 e during the concert!\n\nLet your imagination run wild — and be part of 
 this musical celebration of animals big and small.\n\n&nbsp\;\n\nSubmissio
 ns close: 1 March 2026\n\nEmail: education@mso.com.au\n\nPost: GPO Box 999
 4\, Melbourne\, 3001\n\n&nbsp\;\n\nAnimals to choose from:\n\n 	Lions\n 	H
 ens and Roosters\n 	Fast animals\n 	Tortoise\n 	Elephant\n 	Kangaroo\n 	Fi
 sh and ocean life\n 	Donkey\n 	Cuckoo\n 	Birds\n 	Pianos (yes\, that’s r
 ight!)\n 	Swan\n 	Fossils\n 	Cockatoo\n 	Platypus\n 	Diprotodon\n\nWe can'
 t wait to see your creations!\n\n&nbsp\;\nAge &amp\; Prices:\nFor kids age
 d 5y-12y. Older siblings welcome but sorry\, no preschool-aged siblings.\n
 \n$9 all tickets. Limit of one adult per family.\n\n&nbsp\;\nTimeframe:\n1
 1.50am arrival for a 12.10pm entry &amp\; 12.30pm start. Doors close 12.30
 \, &amp\; late arrivals may not be able to enter. Event runs approximately
  50 minutes.\n\n&nbsp\;\nExtra info:\n\n 	Shoes required for entry\n 	No p
 rams or strollers allowed\n 	Potentially non-allocated seating: so first i
 n best seated\n\nHEN members only\, new members welcome!\n&nbsp\;\n\nTo jo
 in us\, book via https://www.trybooking.com/DGYEL
ATTACH;FMTTYPE=image/jpeg:https://home-ed.vic.edu.au/wp-content/uploads/20
 25/10/2022-carnival-of-the-animals-1200x800px.jpg
CATEGORIES:Special Events
LOCATION:Hamer Hall\, 100 St Kilda Rd\, Southbank\, VIC\, 3004\, Australia
GEO:-37.820156;144.967981
X-APPLE-STRUCTURED-LOCATION;VALUE=URI;X-ADDRESS=100 St Kilda Rd\, Southbank
 \, VIC\, 3004\, Australia;X-APPLE-RADIUS=100;X-TITLE=Hamer Hall:geo:-37.82
 0156,144.967981
END:VEVENT
BEGIN:VTIMEZONE
TZID:Australia/Melbourne
X-LIC-LOCATION:Australia/Melbourne
BEGIN:STANDARD
DTSTART:20260405T020000
TZOFFSETFROM:+1100
TZOFFSETTO:+1000
TZNAME:AEST
END:STANDARD
END:VTIMEZONE
END:VCALENDAR