BEGIN:VCALENDAR
VERSION:2.0
PRODID:-//wp-events-plugin.com//7.2.3.1//EN
TZID:Australia/Melbourne
X-WR-TIMEZONE:Australia/Melbourne
BEGIN:VEVENT
UID:16222@home-ed.vic.edu.au
DTSTART;TZID=Australia/Melbourne:20251126T190000
DTEND;TZID=Australia/Melbourne:20251126T203000
DTSTAMP:20250514T213734Z
URL:https://home-ed.vic.edu.au/events/hen-online-informal-monthly-chat-neu
 rodivergence-disability-2025-11-26/
SUMMARY:HEN Online Monthly Support Group - Neurodivergence & Disability
DESCRIPTION:Member Only Monthly Online Support Group\nDetails on how to acc
 ess them in the members menu when logged into the HEN website\, under Disc
 ounts or HEN member monthly support group\, workshops &amp\; webinars 2025
 .\n\n 	\n\n
ATTACH;FMTTYPE=image/jpeg:https://home-ed.vic.edu.au/wp-content/uploads/20
 23/01/Neurodiversity-monthly-1.png
CATEGORIES:Online Events,Special Events,Special Events - SA
END:VEVENT
BEGIN:VTIMEZONE
TZID:Australia/Melbourne
X-LIC-LOCATION:Australia/Melbourne
BEGIN:DAYLIGHT
DTSTART:20251005T030000
TZOFFSETFROM:+1000
TZOFFSETTO:+1100
TZNAME:AEDT
END:DAYLIGHT
END:VTIMEZONE
END:VCALENDAR