BEGIN:VCALENDAR
VERSION:2.0
PRODID:-//wp-events-plugin.com//7.2.3.1//EN
TZID:Australia/Melbourne
X-WR-TIMEZONE:Australia/Melbourne
BEGIN:VEVENT
UID:17366@home-ed.vic.edu.au
DTSTART;TZID=Australia/Melbourne:20260218T113000
DTEND;TZID=Australia/Melbourne:20260218T140000
DTSTAMP:20260120T111827Z
URL:https://home-ed.vic.edu.au/events/hen-online-the-art-of-portratiure-wi
 th-the-ngv-all-ages/
SUMMARY:HEN Online: the Art of Portraiture with the NGV (all ages)
DESCRIPTION:To book your family in\, visit www.trybooking.com/DIXWX\n\n&nbs
 p\;\n\nJoin us for our first installment of HEN's 2026 free quarterly onli
 ne series for kids\, hosted by the National Gallery of Victoria:\n\nWhat i
 s a portrait? What can a portrait tell us about a person\, time or place? 
 In this online excursion\, join an NGV educator to explore these questions
  and more as children view and respond to portraits from different time pe
 riods and cultural contexts. Kids will consider how portraits capture feel
 ings\, emotions and ideas\, and why so many artists are inspired to make p
 ortraits.\n\nTwo one-hour sessions will run\, to tailor the event to diffe
 rent levels. Both sessions are open to all ages\, and families are welcome
  to attend either or both:\n\n 	11.30am: aimed at kids aged 8y-12y (Grade 
 3 - 6)\n 	1pm: aimed at kids aged 12y - 16y (Year 7 - 10)\n\nThis event is
  free to all HEN members\, and new members are very welcome!\n\nAdults mus
 t be in the room with children to supervise them online throughout this ev
 ent.\n\nSorry\, no recording of this event will be available\, due to NGV'
 s copyright responsibilities.\n\n&nbsp\;\n\nTo book your family in\, visit
  www.trybooking.com/DIXWX
ATTACH;FMTTYPE=image/jpeg:https://home-ed.vic.edu.au/wp-content/uploads/20
 26/01/Screenshot-2026-01-20-at-21-46-45-Dd106525.jpg-JPEG-Image-1479-×-19
 20-pixels-—-Scaled-48.png
CATEGORIES:Online Events
END:VEVENT
BEGIN:VTIMEZONE
TZID:Australia/Melbourne
X-LIC-LOCATION:Australia/Melbourne
BEGIN:DAYLIGHT
DTSTART:20251005T030000
TZOFFSETFROM:+1000
TZOFFSETTO:+1100
TZNAME:AEDT
END:DAYLIGHT
END:VTIMEZONE
END:VCALENDAR