BEGIN:VCALENDAR
VERSION:2.0
PRODID:-//wp-events-plugin.com//7.2.3.1//EN
TZID:Australia/Melbourne
X-WR-TIMEZONE:Australia/Melbourne
BEGIN:VEVENT
UID:17368@home-ed.vic.edu.au
DTSTART;TZID=Australia/Melbourne:20260813T110000
DTEND;TZID=Australia/Melbourne:20260813T130000
DTSTAMP:20260218T034119Z
URL:https://home-ed.vic.edu.au/events/hen-online-time-for-tech-with-perfor
 m-education-all-ages/
SUMMARY:HEN Online: Time for Tech with Perform Education (all ages)
DESCRIPTION:Bookings will open 13th June\, via https://www.trybooking.com/D
 JUVE\n\n&nbsp\;\n\nJoin us for the third installment of HEN's 2026 free qu
 arterly online series for kids\, hosted by Perform Education:\n\nIn a worl
 d where challenges like climate change\, resource management\, and rapidly
  growing global communities are more urgent than ever\, science\, technolo
 gy\, and innovative thinking are the keys to our sustainable future.\n\nTi
 me for Tech is a dynamic\, interactive STEM sketch comedy incursion design
 ed to engage children with the real-world applications of science. This fa
 st-paced show aligns with the 2026 International Year of Rangelands and Pa
 storalists and the 2026 International Year of the Woman Farmer\, taking ki
 ds on a journey through the exciting intersection of STEM and sustainabili
 ty.\n\nThrough four humorous and educational sketches\, families will expl
 ore:\n\n 	How STEM is driving creative solutions for sustainability and cl
 imate resilience\n 	The vital role of technology in managing land\, water\
 , and food systems\n 	Real-life science careers that protect people\, the 
 planet\, and our future\n 	The profound impact of everyday choices and inn
 ovations on shaping a sustainable tomorrow\n\nPacked with humour\, relatab
 le characters\, and connection opportunities\, Time for Tech is not just a
  show — it’s an experience that highlights how science is solving the 
 world’s biggest challenges\, right from the ground up!\n\nThis event als
 o comes with a pack of extras for families to enjoy before or after their 
 session:\n\n\n 	Teacher Resource Pack\n 	Post-Performance Student Quiz\n 	
 Digital Games\n 	Classroom + Home activities\n\n\nDetails:\nTwo 45 minute 
 sessions will run\, to tailor the event to different levels. Both sessions
  are open to all ages\, and families are welcome to attend either or both:
 \n\n 	11am: aimed at kids aged 9y-12y (Grade 4 - 6)\n 	12.15pm: aimed at k
 ids aged 12y - 15y (Year 7 - 9)\n\nA third event aimed at primary-aged kid
 s may be available on Tuesday 25th August at 1pm\, pending numbers present
  on Thursday 13th August.\n\nCan't make it on the day? No problem - a reco
 rding of this event will be available to all HEN members &amp\; advertised
  via HEN's Facebook group &amp\; weekly Tuesday e-newsletter.\n\nFor HEN m
 embers only\, new members very welcome!\n\n&nbsp\;\n\nBookings will open 1
 3th June\, via https://www.trybooking.com/DJUVE
ATTACH;FMTTYPE=image/jpeg:https://home-ed.vic.edu.au/wp-content/uploads/20
 26/01/SW_AU_26_TFT_Web_Tile.png
CATEGORIES:Online Events
END:VEVENT
BEGIN:VTIMEZONE
TZID:Australia/Melbourne
X-LIC-LOCATION:Australia/Melbourne
BEGIN:STANDARD
DTSTART:20260405T020000
TZOFFSETFROM:+1100
TZOFFSETTO:+1000
TZNAME:AEST
END:STANDARD
END:VTIMEZONE
END:VCALENDAR