BEGIN:VCALENDAR
VERSION:2.0
PRODID:-//wp-events-plugin.com//7.2.3.1//EN
TZID:Australia/Melbourne
X-WR-TIMEZONE:Australia/Melbourne
BEGIN:VEVENT
UID:17364@home-ed.vic.edu.au
DTSTART;TZID=Australia/Melbourne:20260619T101500
DTEND;TZID=Australia/Melbourne:20260619T134500
DTSTAMP:20260405T132641Z
URL:https://home-ed.vic.edu.au/events/hen-pentridge-prison-coburg-7y-14y/
SUMMARY:HEN @ Pentridge Prison (Coburg\, 7y-14y)
DESCRIPTION:To  book your family in\, visit the TryBooking link: www.trybo
 oking.com/DISTL\n\n&nbsp\;\n\nJoin HEN for one or both excursions to the P
 entridge Prison:\nThe Vagabond: 7y - 12y\, 10.30am - 12pm (10.15am arrival
 )\nJohn Stanley James (1843-1896) was a writer and a scoundrel\, known as 
 “the Vagabond” by his readers. His writings sought to illuminate the c
 onditions of the working class\, by living amongst them in slums\, and fam
 ously within Pentridge Prison. The public were shocked by his revelations\
 , as his readers often lived lives very far removed from those of the inma
 tes behind the bluestone walls. In this hands-on excursion program\, child
 ren are guided through Pentridge Prison\, uncovering the conditions of pri
 son life\, and have the chance to record footage on their devices. Kids wi
 ll step into the shoes of the Vagabond to develop their own report and sha
 re the truths from the inside!\nPrisonBreak Explorers: 7y-14y\, 12.45pm - 
 1.45am (12.30pm arrival)\nChildren will come together as the latest recrui
 ts in the Pentridge ‘Detective Training Program’ to help thwart a dari
 ng escape! It is up to the young detectives to unravel the mystery of who 
 is behind the idea\, how they plan to escape\, where it will happen\, and 
 when.  Along the way\, a senior detective will introduce students to key 
 spots around Pentridge Prison that witnessed daring\, and sometimes disast
 rous escape attempts\, share stories of some of Pentridge Prison’s colou
 rful characters\, and learn more about what life was like on the inside.\n
 \nKids will collaborate to follow clues\, and complete a booklet detailing
  the escapee’s plans\, and on completion they will receive a certificate
  to commemorate their efforts.\nAdditional Info:\n\n 	$12 per ticket\, for
  all ages. Siblings 4y+ welcome but sorry\, not preschool-aged siblings.\n
  	Limit of one adult per family\n 	BYO lunch\n 	The PrisonBreak excursion 
 requires walking up and down flights of stairs\n 	Sorry\, no prams or stro
 llers\n 	Teacher resources can be found via the Google Drive: https://driv
 e.google.com/drive/folders/1U0utWpTgBuz6E0h_0KURKLvdBt-Xppfd\n 	HEN member
 s only\, new members very welcome!\n\nTo  book your family in\, visit the
  TryBooking link: www.trybooking.com/DISTL
ATTACH;FMTTYPE=image/jpeg:https://home-ed.vic.edu.au/wp-content/uploads/20
 26/01/pentridge.jpeg
CATEGORIES:Special Events
LOCATION:Pentridge Prison\, 1 Champ Street\, Coburg \, Victoria\, 3058\, Au
 stralia
GEO:-37.737051;144.96776
X-APPLE-STRUCTURED-LOCATION;VALUE=URI;X-ADDRESS=1 Champ Street\, Coburg \, 
 Victoria\, 3058\, Australia;X-APPLE-RADIUS=100;X-TITLE=Pentridge Prison:ge
 o:-37.737051,144.96776
END:VEVENT
BEGIN:VTIMEZONE
TZID:Australia/Melbourne
X-LIC-LOCATION:Australia/Melbourne
BEGIN:STANDARD
DTSTART:20260405T020000
TZOFFSETFROM:+1100
TZOFFSETTO:+1000
TZNAME:AEST
END:STANDARD
END:VTIMEZONE
END:VCALENDAR