BEGIN:VCALENDAR
VERSION:2.0
PRODID:-//wp-events-plugin.com//7.2.3.1//EN
TZID:Australia/Melbourne
X-WR-TIMEZONE:Australia/Melbourne
BEGIN:VEVENT
UID:17365@home-ed.vic.edu.au
DTSTART;TZID=Australia/Melbourne:20260303T104500
DTEND;TZID=Australia/Melbourne:20260303T123000
DTSTAMP:20260111T114822Z
URL:https://home-ed.vic.edu.au/events/hen-primesci-deep-creek-reserve-pake
 nham-4y-12y/
SUMMARY:HEN &amp\; PrimeSci @ Deep Creek Reserve (Pakenham\, 4y-12y)
DESCRIPTION:To join this event\, visit the TryBooking webapge\, www.trybook
 ing.com/DIHLR\n\n&nbsp\;\n\nJoin us for a day at Deep Creek Reserve\, wher
 e Swinburne PrimeSci will give kids the opportunity to learn about science
  and the environment\, by utilising the indoor centre and surrounding wetl
 ands.\n\nThis event offers two concurrent activities:\nLife Cycles: ages 4
 y-9y\nDiscuss and explore what defines a living thing and identify differe
 nt life stages of freshwater invertebrates (including waterbugs) in a pond
  water sample.\nFreshwater Habitats: ages 8y-12y\nInvestigate different we
 tland water samples from of the Deep Creek Reserve to identify freshwater 
 invertebrates (including waterbugs). Discuss the needs of animals that liv
 e in these habitats as you learn about living and non-living factors that 
 influence life in our local waterways.\n\nAfter the excursion\, families a
 re encouraged to stay for lunch and a play at the eco play space.\nDetails
 :\n\n 	$19 per child\, adults free\n 	Both groups are open to all school a
 ges\, so siblings welcome to stay together\n 	Sorry\, no preschool aged si
 blings. Families are encouraged to send friends in together\, &amp\; young
 er siblings can play at the eco play space during the excursion\n 	Limit o
 f one adult per family per activity\n 	Families to bring weather appropria
 te clothes that may get dirty\n 	Shoes required\n 	10.45am arrival for an 
 11am prompt start\n\nHEN members only\, new members very welcome!\n\n&nbsp
 \;\n\nTo join this event\, visit the TryBooking webapge\, www.trybooking.c
 om/DIHLR
ATTACH;FMTTYPE=image/jpeg:https://home-ed.vic.edu.au/wp-content/uploads/20
 26/01/priime.png
CATEGORIES:Special Events
LOCATION:Deep Creek Reserve Centre\, Cameron Way\, Pakenham\, Vic\, 3810\, 
 Australia
GEO:-38.077628;145.497264
X-APPLE-STRUCTURED-LOCATION;VALUE=URI;X-ADDRESS=Cameron Way\, Pakenham\, Vi
 c\, 3810\, Australia;X-APPLE-RADIUS=100;X-TITLE=Deep Creek Reserve Centre:
 geo:-38.077628,145.497264
END:VEVENT
BEGIN:VTIMEZONE
TZID:Australia/Melbourne
X-LIC-LOCATION:Australia/Melbourne
BEGIN:DAYLIGHT
DTSTART:20251005T030000
TZOFFSETFROM:+1000
TZOFFSETTO:+1100
TZNAME:AEDT
END:DAYLIGHT
END:VTIMEZONE
END:VCALENDAR