BEGIN:VCALENDAR
VERSION:2.0
PRODID:-//wp-events-plugin.com//7.2.3.1//EN
TZID:Australia/Melbourne
X-WR-TIMEZONE:Australia/Melbourne
BEGIN:VEVENT
UID:17367@home-ed.vic.edu.au
DTSTART;TZID=Australia/Melbourne:20260714T103000
DTEND;TZID=Australia/Melbourne:20260714T143000
DTSTAMP:20260120T112917Z
URL:https://home-ed.vic.edu.au/events/hen-takeover-kemizo-pakenham-all-age
 s-2/
SUMMARY:HEN takeover @ Kemizo (Pakenham\, all ages)
DESCRIPTION:To book your family in\, visit www.trybooking.com/DIUSS\n\n&nbs
 p\;\n\nUnlimited roller skating\, laser tag &amp\; rock climbing! Free ska
 te / blade hire included.                                
                     \n\nVenue open privately for HEN members onl
 y. All ages welcome!\n\n$25 per participant (all ages)\n\nFree for non-par
 ticipating adults &amp\; siblings under 5y\n\nDoors open 10.30am\, arrive 
 at any time. Event ends 2.30pm.\n\nSigned waiver required for entry.\n\nBY
 O lunch\, or drinks &amp\; food available at the venue (chips\, sandwiches
  etc).\n\nHEN members only\, new members very welcome!\n\n&nbsp\;\n\nTo bo
 ok your family in\, visit www.trybooking.com/DIUSS
ATTACH;FMTTYPE=image/jpeg:https://home-ed.vic.edu.au/wp-content/uploads/20
 26/01/Screenshot-2026-01-20-at-22-27-24-HEN-takeover-@-Kemizo-Pakenham-all
 -ages-Tickets-Kemizo-Pakenham-Pakenham-TryBooking-Australia.png
CATEGORIES:Special Events
LOCATION:Kemizo\, 1/100 Bald Hill Rd\, Pakenham\, Australia
GEO:-38.087548;145.501689
X-APPLE-STRUCTURED-LOCATION;VALUE=URI;X-ADDRESS=1/100 Bald Hill Rd\, Pakenh
 am\, Australia;X-APPLE-RADIUS=100;X-TITLE=Kemizo:geo:-38.087548,145.501689
END:VEVENT
BEGIN:VTIMEZONE
TZID:Australia/Melbourne
X-LIC-LOCATION:Australia/Melbourne
BEGIN:STANDARD
DTSTART:20260405T020000
TZOFFSETFROM:+1100
TZOFFSETTO:+1000
TZNAME:AEST
END:STANDARD
END:VTIMEZONE
END:VCALENDAR