BEGIN:VCALENDAR
VERSION:2.0
PRODID:-//wp-events-plugin.com//7.2.3.1//EN
TZID:Australia/Melbourne
X-WR-TIMEZONE:Australia/Melbourne
BEGIN:VEVENT
UID:17289@home-ed.vic.edu.au
DTSTART;TZID=Australia/Melbourne:20260130T100000
DTEND;TZID=Australia/Melbourne:20260130T170000
DTSTAMP:20251205T215124Z
URL:https://home-ed.vic.edu.au/events/hens-not-back-to-school-party-2026-w
 allington-all-ages/
SUMMARY:HEN's Not Back to School Party 2026 (Wallington\, all ages)
DESCRIPTION:Save the date: HEN's annual Not Back to School Party is on agai
 n on Friday 30th January at Adventure Park!\n\nNo group entry requirements
  - arrive any time from 10am on the day.\n\nBooking link: in the HEN websi
 te's members' section\, https://home-ed.vic.edu.au/discounts/\n\nBookings 
 open NOW!\n\nBookings close: 11.59pm\, Thursday 22nd January. NO DISCOUNTE
 D TICKETS WILL BE AVAILABLE AFTER THIS DATE. Families booking after this t
 ime will be required to pay general admission.\n\nTicket prices:\n\n 	$42 
 per person (90cm &amp\; over)\n 	Free for younger siblings\, under 90cm (n
 o ticket required)\n\nHEN membership provides families with discounted Gen
 eral Admission\, for one day only. HEN members only\, new members very wel
 come!\n\nNote: your HEN membership only covers your family. If bringing al
 ong a friend\, please provide their HEN membership number as well as your 
 own while booking\, to save any back &amp\; forth when memberships are che
 cked.
ATTACH;FMTTYPE=image/jpeg:https://home-ed.vic.edu.au/wp-content/uploads/20
 25/10/Tsunami_1_1_f9a6cde06e.jpeg
CATEGORIES:Special Events
LOCATION:Adventure Park Geelong\, 1249 Bellarine Hwy\, Wallington\, Victori
 a\, Australia
GEO:-38.210356;144.514911
X-APPLE-STRUCTURED-LOCATION;VALUE=URI;X-ADDRESS=1249 Bellarine Hwy\, Wallin
 gton\, Victoria\, Australia;X-APPLE-RADIUS=100;X-TITLE=Adventure Park Geel
 ong:geo:-38.210356,144.514911
END:VEVENT
BEGIN:VTIMEZONE
TZID:Australia/Melbourne
X-LIC-LOCATION:Australia/Melbourne
BEGIN:DAYLIGHT
DTSTART:20251005T030000
TZOFFSETFROM:+1000
TZOFFSETTO:+1100
TZNAME:AEDT
END:DAYLIGHT
END:VTIMEZONE
END:VCALENDAR