BEGIN:VCALENDAR
VERSION:2.0
PRODID:-//wp-events-plugin.com//7.2.3.1//EN
TZID:Australia/Melbourne
X-WR-TIMEZONE:Australia/Melbourne
BEGIN:VEVENT
UID:17405@home-ed.vic.edu.au
DTSTART;TZID=Australia/Melbourne:20260226T111500
DTEND;TZID=Australia/Melbourne:20260226T123000
DTSTAMP:20260127T103231Z
URL:https://home-ed.vic.edu.au/events/holey-moley-mini-golf-point-cook/
SUMMARY:Holey Moley Mini Golf (Point Cook)
DESCRIPTION:⛳️ MINI GOLF @ Holey Moley (Point Cook)\nHey everyone!\n\nA
  casual homeschool meet up\, no need to pre-book. Once you arrive at Strik
 e - Point Cook\, please head upstairs to Holey Moley.\n\nArrive: Between 1
 1.15am-11.30am to register for a 11.30am start.\nCost: $15 pp for 1 hour u
 nlimited mini golf\n\n⛳️ Please remember this is NOT a driving range\,
  but a fun putting green.\n\n⛳️ Closed toed shoes are highly recommend
 ed.\n\n⛳️ Same as bowling (see separate event listings)\, you can orde
 r/pre-order any food &amp\; drinks when registering for mini golf.\n\n⛳
 ️ The venue is no longer a nut free venue.\n\nThere is also a car park u
 nderneath the building\, the gates should be open by 10.50am. There is als
 o limited parking opposite the building at Strike.\n\nWhere: Strike - Poi
 nt Cook (Holey Moley is upstairs)\, 36 Wallace Ave\, Point Cook.\nContact:
  Rebecca | rebecca_payne1@hotmail.com
ATTACH;FMTTYPE=image/jpeg:https://home-ed.vic.edu.au/wp-content/uploads/20
 26/01/2026-HoleyMoleyMiniGolf.jpg
CATEGORIES:Regular Classes
LOCATION:Holey Moley Point Cook\, 36 Wallace Ave\, Point Cook VIC 3030\, 
GEO:-37.87224;144.74732
X-APPLE-STRUCTURED-LOCATION;VALUE=URI;X-ADDRESS=36 Wallace Ave\, Point Cook
  VIC 3030\, ;X-APPLE-RADIUS=100;X-TITLE=Holey Moley Point Cook:geo:-37.872
 24,144.74732
END:VEVENT
BEGIN:VTIMEZONE
TZID:Australia/Melbourne
X-LIC-LOCATION:Australia/Melbourne
BEGIN:DAYLIGHT
DTSTART:20251005T030000
TZOFFSETFROM:+1000
TZOFFSETTO:+1100
TZNAME:AEDT
END:DAYLIGHT
END:VTIMEZONE
END:VCALENDAR