BEGIN:VCALENDAR
VERSION:2.0
PRODID:-//wp-events-plugin.com//7.2.3.1//EN
TZID:Australia/Melbourne
X-WR-TIMEZONE:Australia/Melbourne
BEGIN:VEVENT
UID:16368@home-ed.vic.edu.au
DTSTART;TZID=Australia/Melbourne:20251028T093000
DTEND;TZID=Australia/Melbourne:20251028T123000
DTSTAMP:20250120T045538Z
URL:https://home-ed.vic.edu.au/events/home-educators-mosaic-course-all-age
 s-yea-2025-10-28/
SUMMARY:Home Educators Mosaic Course - All Ages (Yea)
DESCRIPTION:Home Educators Mosaic Course\n\nTuesdays 7\, 14\, 21\, 28 Octob
 er\n\n9:30 - 12:30 \n\n$115 (all inclusive of materials) \n\nJoin Dindi Wi
 ld + Free Co with local Fibre Artist Carolyn Weeks for a 4 week Mosaic wor
 kshop series!\n\nThis is a small group setting for the purpose of fosterin
 g a high quality intimate learning space. Cost: $115 (all inclusive of mat
 erials) Location: Yea. Parents welcome &amp\; encouraged to participate. A
 ll participants must book so facilitator may prepare materials.\n\nA hands
  on learning experience. Join this 4 week course with local Artist Carolyn
  Weeks. Workshops go for 3 hours and offer a small group environment for s
 upported practical guidance towards learning the art of mosaics.\n\nwww.di
 ndiwildandfree.co https://www.facebook.com/groups/dindiwildandfree\n\nYea 
 Exact Location TBC\n\nhttps://www.trybooking.com/CYKST
CATEGORIES:Regular Classes
END:VEVENT
BEGIN:VTIMEZONE
TZID:Australia/Melbourne
X-LIC-LOCATION:Australia/Melbourne
BEGIN:DAYLIGHT
DTSTART:20251005T030000
TZOFFSETFROM:+1000
TZOFFSETTO:+1100
TZNAME:AEDT
END:DAYLIGHT
END:VTIMEZONE
END:VCALENDAR