BEGIN:VCALENDAR
VERSION:2.0
PRODID:-//wp-events-plugin.com//7.2.3.1//EN
TZID:Australia/Melbourne
X-WR-TIMEZONE:Australia/Melbourne
BEGIN:VEVENT
UID:17439@home-ed.vic.edu.au
DTSTART;TZID=Australia/Melbourne:20261012T140000
DTEND;TZID=Australia/Melbourne:20261016T140000
DTSTAMP:20260216T032211Z
URL:https://home-ed.vic.edu.au/events/home-school-families-camp-acheron/
SUMMARY:Home School Families Camp @ Acheron
DESCRIPTION:Home School Families Camp @ Acheron\nOur Oct Home ed families c
 amp has moved from Beechworth to Acheron!\nJoin other families to explore 
 the beautiful area of Alexandra.\nStay for a week or 2 nights!\n\nMORE INF
 O: https://alburywodongahomeschool.com.au/ 
CATEGORIES:Special Events
LOCATION:Home School Families Camp @ Acheron\, 91 Breakaway Road\, Acheron\
 , VIC\, Australia
GEO:-37.239826;145.709572
X-APPLE-STRUCTURED-LOCATION;VALUE=URI;X-ADDRESS=91 Breakaway Road\, Acheron
 \, VIC\, Australia;X-APPLE-RADIUS=100;X-TITLE=Home School Families Camp @ 
 Acheron:geo:-37.239826,145.709572
END:VEVENT
BEGIN:VTIMEZONE
TZID:Australia/Melbourne
X-LIC-LOCATION:Australia/Melbourne
BEGIN:DAYLIGHT
DTSTART:20261004T030000
TZOFFSETFROM:+1000
TZOFFSETTO:+1100
TZNAME:AEDT
END:DAYLIGHT
END:VTIMEZONE
END:VCALENDAR