BEGIN:VCALENDAR
VERSION:2.0
PRODID:-//wp-events-plugin.com//7.2.3.1//EN
TZID:Australia/Melbourne
X-WR-TIMEZONE:Australia/Melbourne
BEGIN:VEVENT
UID:17303@home-ed.vic.edu.au
DTSTART;TZID=Australia/Melbourne:20260330T100000
DTEND;TZID=Australia/Melbourne:20260330T113000
DTSTAMP:20251209T013519Z
URL:https://home-ed.vic.edu.au/events/home-school-pottery-8-week-course-bo
 x-hill-8/
SUMMARY:Home School Pottery - 8 week course (Box Hill)
DESCRIPTION:Home School Pottery (week 8 - last session)\nSpend an enjoyable
  Monday morning each week in our clay studio creating ceramic masterpieces
 .\nUnder the guidance of instructor Judy Woods\, explore fundamental hand-
 building techniques such as moulding\, squeezing\, pushing\, pulling\, rol
 ling\, and pinching.\n\nThis is an 8-week course.\nSuitable for children a
 ged 9+ years\n\nClay and equipment included. BYO – Apron and closed toe 
 shoes.\n\nMondays: 2 February - 30 March 2026 (8 weeks) no class on 9 Marc
 h\n\n10am – 11.30am\n\nCOST: $226 for 8 weeks\n\nWHERE: Box Hill Communi
 ty Arts Centre\, Box Hill (470 Station Street Box Hill VIC 3128)\n\nCONTAC
 T\nEmail: bhcac@whitehorse.vic.gov.au\nPhone: 03 9895 8888\n\nBOOKINGS: ht
 tps://www.creativewhitehorse.vic.gov.au/whats-on/home-school-pottery-8 
ATTACH;FMTTYPE=image/jpeg:https://home-ed.vic.edu.au/wp-content/uploads/20
 25/12/2026-Box-Hill-Community-Arts-Centre-Home-School-Pottery-Term-1.jpg
CATEGORIES:Regular Classes
LOCATION:Box Hill Community Arts Centre\, 470 Station St\, Box Hill\, Vic\,
  3128\, Australia
GEO:-37.825549;145.122894
X-APPLE-STRUCTURED-LOCATION;VALUE=URI;X-ADDRESS=470 Station St\, Box Hill\,
  Vic\, 3128\, Australia;X-APPLE-RADIUS=100;X-TITLE=Box Hill Community Arts
  Centre:geo:-37.825549,145.122894
END:VEVENT
BEGIN:VTIMEZONE
TZID:Australia/Melbourne
X-LIC-LOCATION:Australia/Melbourne
BEGIN:DAYLIGHT
DTSTART:20251005T030000
TZOFFSETFROM:+1000
TZOFFSETTO:+1100
TZNAME:AEDT
END:DAYLIGHT
END:VTIMEZONE
END:VCALENDAR