BEGIN:VCALENDAR
VERSION:2.0
PRODID:-//wp-events-plugin.com//7.2.3.1//EN
TZID:Australia/Melbourne
X-WR-TIMEZONE:Australia/Melbourne
BEGIN:VEVENT
UID:17236@home-ed.vic.edu.au
DTSTART;TZID=Australia/Melbourne:20251201T100000
DTEND;TZID=Australia/Melbourne:20251201T113000
DTSTAMP:20250914T233846Z
URL:https://home-ed.vic.edu.au/events/home-school-pottery-box-hill-2025-12
 -01/
SUMMARY:Home School Pottery - 8 week course (Box Hill)
DESCRIPTION:Home School Pottery @ Box Hill Community Arts Centre\n8 Week Co
 urse $226\nSuitable for children aged 9+ years. Clay and equipment include
 d. BYO – Apron and closed toe shoes.\n\nSpend an enjoyable Monday mornin
 g each week in our clay studio creating ceramic masterpieces.\n\nUnder the
  guidance of instructor Judy Woods\, explore fundamental hand-building tec
 hniques such as moulding\, squeezing\, pushing\, pulling\, rolling\, and p
 inching.\n\nWhere: Box Hill Community Arts Centre | 470 Station St\, Box H
 ill 3128\n\nWhen: Mondays starting 13 October - 8 December 2025 (8 weeks)\
 nNO class on 3 November (Melbourne Cup Long Weekend)\n\n10am - 11:30am\n\n
 Bookings: https://www.creativewhitehorse.vic.gov.au/whats-on/home-school-p
 ottery-7 \n\nMore Info: 03 9895 8888 | BHCAC@whitehorse.vic.gov.au\n\n&nb
 sp\;
ATTACH;FMTTYPE=image/jpeg:https://home-ed.vic.edu.au/wp-content/uploads/20
 25/09/2025-Box-Hill-Community-Arts-Centre-Home-School-Pottery-Term-4.jpg
CATEGORIES:Regular Classes
LOCATION:Box Hill Community Arts Centre\, 470 Station St\, Box Hill\, Vic\,
  3128\, Australia
GEO:-37.825549;145.122894
X-APPLE-STRUCTURED-LOCATION;VALUE=URI;X-ADDRESS=470 Station St\, Box Hill\,
  Vic\, 3128\, Australia;X-APPLE-RADIUS=100;X-TITLE=Box Hill Community Arts
  Centre:geo:-37.825549,145.122894
END:VEVENT
BEGIN:VTIMEZONE
TZID:Australia/Melbourne
X-LIC-LOCATION:Australia/Melbourne
BEGIN:DAYLIGHT
DTSTART:20251005T030000
TZOFFSETFROM:+1000
TZOFFSETTO:+1100
TZNAME:AEDT
END:DAYLIGHT
END:VTIMEZONE
END:VCALENDAR