BEGIN:VCALENDAR
VERSION:2.0
PRODID:-//wp-events-plugin.com//7.2.3.1//EN
TZID:Australia/Melbourne
X-WR-TIMEZONE:Australia/Melbourne
BEGIN:VEVENT
UID:17306@home-ed.vic.edu.au
DTSTART;TZID=Australia/Melbourne:20260320T100000
DTEND;TZID=Australia/Melbourne:20260320T120000
DTSTAMP:20251209T014313Z
URL:https://home-ed.vic.edu.au/events/home-school-pottery-wheel-family-4-w
 eek-course-box-hill-3/
SUMMARY:Home School Pottery Wheel - Family 4 week course (Box Hill)
DESCRIPTION:Home School Pottery Wheel - Family - Week 3\nLooking for a fun 
 and creative activity to enjoy with a family member? Come and try the pott
 ery wheel together!\nIn this 4-week course\, you’ll learn the fundamenta
 ls of wheel-throwing\, including wedging\, centring\, and forming vessels.
 \n\nPerfect for Home School Families who are new to the pottery wheel or l
 ooking for a refresher.\n\nSuitable for children aged 9 years+\n\nAll mate
 rials are provided. Please bring your own apron and wear closed-toe shoes.
 \n\nFridays: 6 March - 27 March (4 weeks)\n\n10am – 12pm\n\nCOST: $168 p
 er person for 4 weeks\n\nWHERE: Box Hill Community Arts Centre\, Box Hill 
 (470 Station Street Box Hill VIC 3128)\n\nCONTACT\nEmail: bhcac@whitehorse
 .vic.gov.au\nPhone: 03 9895 8888\n\nBOOKINGS: https://www.creativewhitehor
 se.vic.gov.au/whats-on/home-school-pottery-wheel-family-1
ATTACH;FMTTYPE=image/jpeg:https://home-ed.vic.edu.au/wp-content/uploads/20
 25/12/2026-Box-Hill-Community-Arts-Centre-Home-School-Pottery-Wheel-Term-1
 .jpg
CATEGORIES:Regular Classes
LOCATION:Box Hill Community Arts Centre\, 470 Station St\, Box Hill\, Vic\,
  3128\, Australia
GEO:-37.825549;145.122894
X-APPLE-STRUCTURED-LOCATION;VALUE=URI;X-ADDRESS=470 Station St\, Box Hill\,
  Vic\, 3128\, Australia;X-APPLE-RADIUS=100;X-TITLE=Box Hill Community Arts
  Centre:geo:-37.825549,145.122894
END:VEVENT
BEGIN:VTIMEZONE
TZID:Australia/Melbourne
X-LIC-LOCATION:Australia/Melbourne
BEGIN:DAYLIGHT
DTSTART:20251005T030000
TZOFFSETFROM:+1000
TZOFFSETTO:+1100
TZNAME:AEDT
END:DAYLIGHT
END:VTIMEZONE
END:VCALENDAR