BEGIN:VCALENDAR
VERSION:2.0
PRODID:-//wp-events-plugin.com//7.2.3.1//EN
TZID:Australia/Melbourne
X-WR-TIMEZONE:Australia/Melbourne
BEGIN:VEVENT
UID:17443@home-ed.vic.edu.au
DTSTART;TZID=Australia/Melbourne:20260316T100000
DTEND;TZID=Australia/Melbourne:20260316T140000
DTSTAMP:20260222T074549Z
URL:https://home-ed.vic.edu.au/events/homeschool-day-chemistry-edition-ben
 digo/
SUMMARY:Homeschool Day: Chemistry Edition! (Bendigo)
DESCRIPTION:Homeschool Day: Chemistry Edition! @ Bendigo Discovery Centre\n
 Join us for a hands-on chemistry adventure with two workshop streams:\n\n1
 . Little Labs – beginner-friendly\, playful experiments\n2. Chemistry Ca
 pers – deeper investigations for growing scientists\n\nEach session is i
 nteractive\, engaging\, and perfect for curious learners wanting to explor
 e STEM through real experiments. Come mix\, fizz\, and discover!\n\nAs alw
 ays\, your Homeschool Day ticket includes unlimited access to the Discover
 y Science &amp\; Technology Centre\, including the NEW Curiousity: Buildin
 g breakthroughs in Lego® Bricks exhibition\, with time to roam\, experime
 nt\, and play between scheduled sessions. Families have time to meet\, con
 nect\, and explore the centre together\, creating a welcoming space for co
 mmunity and shared learning.\n\n$20 per learner (Non-member) | $15 per lea
 rner (Bendigo Discovery Centre Member)\nOne free adult per learner\nChildr
 en under 3 are free\n\nBOOKINGS: https://discovery.asn.au/events/homeschoo
 l-day 
ATTACH;FMTTYPE=image/jpeg:https://home-ed.vic.edu.au/wp-content/uploads/20
 26/02/2026-Discovery-Centre-Days.jpg
CATEGORIES:Regular Classes
LOCATION:Discovery Science and Technology Centre\, 7 Railway Place\, Bendig
 o\, Australia
GEO:-36.764982;144.282163
X-APPLE-STRUCTURED-LOCATION;VALUE=URI;X-ADDRESS=7 Railway Place\, Bendigo\,
  Australia;X-APPLE-RADIUS=100;X-TITLE=Discovery Science and Technology Cen
 tre:geo:-36.764982,144.282163
END:VEVENT
BEGIN:VTIMEZONE
TZID:Australia/Melbourne
X-LIC-LOCATION:Australia/Melbourne
BEGIN:DAYLIGHT
DTSTART:20251005T030000
TZOFFSETFROM:+1000
TZOFFSETTO:+1100
TZNAME:AEDT
END:DAYLIGHT
END:VTIMEZONE
END:VCALENDAR