BEGIN:VCALENDAR
VERSION:2.0
PRODID:-//wp-events-plugin.com//7.2.3.1//EN
TZID:Australia/Melbourne
X-WR-TIMEZONE:Australia/Melbourne
BEGIN:VEVENT
UID:17505@home-ed.vic.edu.au
DTSTART;TZID=Australia/Melbourne:20260504T100000
DTEND;TZID=Australia/Melbourne:20260504T140000
DTSTAMP:20260406T093056Z
URL:https://home-ed.vic.edu.au/events/homeschool-day-space-edition-discove
 ry-centre/
SUMMARY:Homeschool Day - Space Edition @ Discovery Centre
DESCRIPTION:Homeschool Day: Space!\nBlast off into a day of discovery as we
  journey beyond Earth!\nOur upcoming Space themed Homeschool Day invites c
 urious learners to investigate the wonders of space through hands on scien
 ce\, immersive experiences\, and plenty of opportunities to connect with o
 ther homeschool families.\n\nFrom rockets and planets to gravity and explo
 ration\, this exciting day is designed to spark imagination and inspire th
 e next generation of space scientists.\n\n\nWHEN:  4th May 2026 | 10am - 
 2pm\n\n\nWHERE: Discovery Centre 7 Railway Place\, Bendigo\, VIC\, 3550\n\
 n\nThe day will include:\n• A Space Science workshop (2 levels to choose
  from\, please see below for details)\n• Vertical slide session\n• Pla
 netarium program\n• Time to meet\, play\, and connect with other homesch
 ool families\n\nCost:\n• $20 per learner (non member)\n• $15 per learn
 er (member)\n• One free adult per learner\n• Children under 3 are free
  (non learner)\n\nWorkshop Streams\nWe’re offering two engaging workshop
  streams\, allowing learners to explore space science at a level that suit
 s them best.\nPlease note: each learner can select one workshop only.\n•
  Stream 1: Junior Astronauts (Introductory Space Science) Perfect for youn
 ger explorers or beginners\, this playful\, hands on workshop introduces k
 ey space concepts such as planets\, movement\, and exploration through int
 eractive activities and imaginative investigation.\n• Stream 2: Mission 
 Control (Intermediate Space Science) Ready for a deeper dive into space? T
 his workshop challenges learners with guided investigations into astronomy
 \, forces\, and space technology\, encouraging critical thinking and probl
 em solving like real space scientists\n\nPrivate Event\nEntry to Discovery
  is restricted to registered ticket holders only.\nPrior purchasing is req
 uired for all attendees\, including adults and children under 3.\n\nwww.di
 scovery.asn.au
ATTACH;FMTTYPE=image/jpeg:https://home-ed.vic.edu.au/wp-content/uploads/20
 26/04/Discovery-Space.jpg
CATEGORIES:Regular Classes
LOCATION:Discovery Science and Technology Centre\, 7 Railway Place\, Bendig
 o\, Australia
GEO:-36.764982;144.282163
X-APPLE-STRUCTURED-LOCATION;VALUE=URI;X-ADDRESS=7 Railway Place\, Bendigo\,
  Australia;X-APPLE-RADIUS=100;X-TITLE=Discovery Science and Technology Cen
 tre:geo:-36.764982,144.282163
END:VEVENT
BEGIN:VTIMEZONE
TZID:Australia/Melbourne
X-LIC-LOCATION:Australia/Melbourne
BEGIN:STANDARD
DTSTART:20260405T020000
TZOFFSETFROM:+1100
TZOFFSETTO:+1000
TZNAME:AEST
END:STANDARD
END:VTIMEZONE
END:VCALENDAR