BEGIN:VCALENDAR
VERSION:2.0
PRODID:-//wp-events-plugin.com//7.2.3.1//EN
TZID:Australia/Melbourne
X-WR-TIMEZONE:Australia/Melbourne
BEGIN:VEVENT
UID:17177@home-ed.vic.edu.au
DTSTART;TZID=Australia/Melbourne:20251106T090000
DTEND;TZID=Australia/Melbourne:20251106T113000
DTSTAMP:20250729T065159Z
URL:https://home-ed.vic.edu.au/events/homeschool-swimming-program-hume-lei
 sure-centres-2025-11-06/
SUMMARY:Swimming lessons & Casual Free-play (Craigieburn)
DESCRIPTION:Swimming lessons for homeschooled children 5-15 years.\n\nCasua
 l free-play / Casual meet-up with other home educated children @ Splash Aq
 ua Park &amp\; Leisure Centre. 60 Central Park Avenue\, Craigieburn\n\nIf 
 you would like to book into the Home School Program please contact:\n\nspl
 ashswimschool@hume.vic.gov.au\n\nFor casual swimming on the day - pay entr
 y fee at the front desk.\n\nTo connect with other homeschoolers in the are
 a follow this link to join the Northern Home Educators WhatsApp community 
 group: https://chat.whatsapp.com/CIPy0pluJ4n3vg4dGirjqC\n\n
ATTACH;FMTTYPE=image/jpeg:https://home-ed.vic.edu.au/wp-content/uploads/20
 25/07/Hume-Swimming.jpg
CATEGORIES:Regular Classes
LOCATION:Splash Aqua Park & Leisure Centre\, 60 Central Park Avenue\, Craig
 ieburn\, Craigieburn\, Australia
GEO:-37.589669;144.912547
X-APPLE-STRUCTURED-LOCATION;VALUE=URI;X-ADDRESS=60 Central Park Avenue\, Cr
 aigieburn\, Craigieburn\, Australia;X-APPLE-RADIUS=100;X-TITLE=Splash Aqua
  Park & Leisure Centre:geo:-37.589669,144.912547
END:VEVENT
BEGIN:VTIMEZONE
TZID:Australia/Melbourne
X-LIC-LOCATION:Australia/Melbourne
BEGIN:DAYLIGHT
DTSTART:20251005T030000
TZOFFSETFROM:+1000
TZOFFSETTO:+1100
TZNAME:AEDT
END:DAYLIGHT
END:VTIMEZONE
END:VCALENDAR