BEGIN:VCALENDAR
VERSION:2.0
PRODID:-//wp-events-plugin.com//7.2.3.1//EN
TZID:Australia/Melbourne
X-WR-TIMEZONE:Australia/Melbourne
BEGIN:VEVENT
UID:17411@home-ed.vic.edu.au
DTSTART;TZID=Australia/Melbourne:20260310T130000
DTEND;TZID=Australia/Melbourne:20260310T150000
DTSTAMP:20260211T074309Z
URL:https://home-ed.vic.edu.au/events/homeschoolers-social-activity-club-c
 raigieburn-sunbury-libraries/
SUMMARY:Homeschoolers Social / Activity Club (Craigieburn & Sunbury Librari
 es)
DESCRIPTION:Homeschoolers Social/Activity Club @ Craigieburn &amp\; Sunbury
  Libraries\nThe 2nd Tuesday of each month during school terms\nTerm 1 date
 s in both locations\n10th FEB\n10th MARCH\n\nTerm 2 - TBC\n\nFREE to atten
 d\, please book ahead.\n\nTime: 1pm-3pm\n\n\nAges: 8 - 18 years\n\nLOCATIO
 NS:\n\nCraigieburn Library\nHume Global Learning Centre - Craigieburn\n75-
 95 Central Park Avenue\, Craigieburn\n\nSunbury Library\nHume Global Learn
 ing Centre - Sunbury.\n44 Macedon Street\, Sunbury\n\nMORE INFO: https://h
 umelibraries.events.mylibrary.digital/ \nBOOKINGS: https://humelibraries.
 events.mylibrary.digital/event?id=185340 \n\nOR CALL:\nCraigieburn Librar
 y - (03) 9356 6980\nSunbury Library - (03) 9356 6970
ATTACH;FMTTYPE=image/jpeg:https://home-ed.vic.edu.au/wp-content/uploads/20
 26/02/2026-Hume-Libraries.jpg
CATEGORIES:Regular Classes
LOCATION:Craigieburn Library\, 75-95 Central Park Avenue\, Craigieburn\, Au
 stralia
GEO:-37.590464;144.909852
X-APPLE-STRUCTURED-LOCATION;VALUE=URI;X-ADDRESS=75-95 Central Park Avenue\,
  Craigieburn\, Australia;X-APPLE-RADIUS=100;X-TITLE=Craigieburn Library:ge
 o:-37.590464,144.909852
END:VEVENT
BEGIN:VTIMEZONE
TZID:Australia/Melbourne
X-LIC-LOCATION:Australia/Melbourne
BEGIN:DAYLIGHT
DTSTART:20251005T030000
TZOFFSETFROM:+1000
TZOFFSETTO:+1100
TZNAME:AEDT
END:DAYLIGHT
END:VTIMEZONE
END:VCALENDAR