BEGIN:VCALENDAR
VERSION:2.0
PRODID:-//wp-events-plugin.com//7.2.3.1//EN
TZID:Australia/Melbourne
X-WR-TIMEZONE:Australia/Melbourne
BEGIN:VEVENT
UID:17283@home-ed.vic.edu.au
DTSTART;TZID=Australia/Melbourne:20260209T140000
DTEND;TZID=Australia/Melbourne:20260213T100000
DTSTAMP:20251022T065716Z
URL:https://home-ed.vic.edu.au/events/hs-camp-summer-alps-edition-2026-por
 epunkah-vic/
SUMMARY:HS Camp Summer Alps Edition 2026 (Porepunkah Vic)
DESCRIPTION:Home Ed families Camp\, all ages welcome.\n\nLets celebrate our
  Not Back to School lifestyle with a families camp at the Base of Mount Bu
 ffalo on the banks of the Ovens River.\n\nThe park has cabins\, houses and
  camping sites - BYO all you need to have fun on our families camp.\n\nWhe
 re: The Pines Caravan Park\nWhen: 9th Feb to 13th Feb 2026\n\nCONTACT / BO
 OKINGS: https://alburywodongahomeschool.com.au\nCall: (03) 5756 2282\n(Men
 tion HS families Camp Group)
ATTACH;FMTTYPE=image/jpeg:https://home-ed.vic.edu.au/wp-content/uploads/20
 25/10/2026-Family-Camp.jpg
CATEGORIES:Special Events
LOCATION:Porepunkah Pines Holiday Park\, 7065 Great Alpine Rd\, Porepunkah\
 , Vic\, 3740\, Australia
GEO:-36.704916;146.917407
X-APPLE-STRUCTURED-LOCATION;VALUE=URI;X-ADDRESS=7065 Great Alpine Rd\, Pore
 punkah\, Vic\, 3740\, Australia;X-APPLE-RADIUS=100;X-TITLE=Porepunkah Pine
 s Holiday Park:geo:-36.704916,146.917407
END:VEVENT
BEGIN:VTIMEZONE
TZID:Australia/Melbourne
X-LIC-LOCATION:Australia/Melbourne
BEGIN:DAYLIGHT
DTSTART:20251005T030000
TZOFFSETFROM:+1000
TZOFFSETTO:+1100
TZNAME:AEDT
END:DAYLIGHT
END:VTIMEZONE
END:VCALENDAR