BEGIN:VCALENDAR
VERSION:2.0
PRODID:-//wp-events-plugin.com//7.2.3.1//EN
TZID:Australia/Melbourne
X-WR-TIMEZONE:Australia/Melbourne
BEGIN:VEVENT
UID:17399@home-ed.vic.edu.au
DTSTART;TZID=Australia/Melbourne:20260318T130000
DTEND;TZID=Australia/Melbourne:20260318T150000
DTSTAMP:20260125T061135Z
URL:https://home-ed.vic.edu.au/events/i-can-network-minecraft-creative-ser
 ver-6-weeks-online-5/
SUMMARY:I CAN Network - Minecraft Creative Server (6 weeks online)
DESCRIPTION:I CAN Network - Minecraft Creative Server (6 weeks online)\nI C
 AN® is Australia’s largest provider of autistic-led group mentoring pro
 grams\, training and consultancy. Our school and online mentoring programs
  empower 7 to 22-year-old young people with an ‘I CAN’ attitude.\nWhat
  is online mentoring?\nOur online mentoring groups include up to 10 mentee
 s and are matched with peers of a similar age. Our program builds confiden
 ce and social connection in a safe\, positive environment which allows ind
 ividuals to move at a pace that feels right for them. Each session offers 
 flexibility\, so they can engage in a way that meets their needs on the da
 y.\n\nAutistic young people can be unapologetically themselves. They can e
 xplore their interests with peers\, and build confidence\, communication\,
  and social connections along the way whilst benefiting from I CAN Mentors
  as role models.\n\nAll sessions are run via a secure online platform by t
 rained Autistic and neurodivergent mentors\, making the program accessible
  to families across Australia\, including those in regional and remote com
 munities.\n\nWednesdays: 1pm - 3pm AEDT\nWeek 1 - Feb 11\nWeek 2 - Feb 18\
 nWeek 3 - Feb 25\nWeek 4 - Mar 4\nWeek 5 - Mar 18\nWeek 6 - Mar 25\n\n$642
 .00 total cost for the 6 week program\n\nExpression of Interest: https://i
 cannetwork.tfaforms.net/5072098 \n\nEmail: online@icannetwork.com.au\nhtt
 ps://icannetwork.online/online/\nhttps://www.facebook.com/theicannetwork/\
 nhttps://www.instagram.com/ican_rethinkautism/?hl=en\n
ATTACH;FMTTYPE=image/jpeg:https://home-ed.vic.edu.au/wp-content/uploads/20
 26/01/2026-ICanNetwork-Minecraft.jpg
CATEGORIES:Online Events
END:VEVENT
BEGIN:VTIMEZONE
TZID:Australia/Melbourne
X-LIC-LOCATION:Australia/Melbourne
BEGIN:DAYLIGHT
DTSTART:20251005T030000
TZOFFSETFROM:+1000
TZOFFSETTO:+1100
TZNAME:AEDT
END:DAYLIGHT
END:VTIMEZONE
END:VCALENDAR