BEGIN:VCALENDAR
VERSION:2.0
PRODID:-//wp-events-plugin.com//7.2.3.1//EN
TZID:Australia/Melbourne
X-WR-TIMEZONE:Australia/Melbourne
BEGIN:VEVENT
UID:17433@home-ed.vic.edu.au
DTSTART;TZID=Australia/Melbourne:20260216T100000
DTEND;TZID=Australia/Melbourne:20260216T103000
DTSTAMP:20260211T093738Z
URL:https://home-ed.vic.edu.au/events/intro-into-music-production/
SUMMARY:Intro into music production
DESCRIPTION:Intro into music production\nFree Online Introduction to Music 
 Production (Ages 12+)\nThis short\, beginner-friendly session introduces s
 tudents and parents to the fundamentals of music production and how it can
  be used as a creative and educational tool within home education.\nConduc
 ted over Zoom.\n\nWe’ll cover:\n\n 	What music production is and how mod
 ern music is created\n\n 	How beginners can start recording and producing 
 music at home (with stuff you already have)\n\n 	Ways music production can
  be incorporated into a home-education curriculum\n\n 	A live demonstratio
 n showing how a simple sound can be developed into a full song\n\nParent a
 ttendance is required\, as the session also outlines learning outcomes\, s
 tructure\, and pathways for continued study.\n\n\nNo prior experience is n
 eeded. All students require is a computer and an interest in music.\n\nCON
 TACT: Luca Cupitt\nbeatbridge.com.au\nluca@beatbridge.com.au\n0492928140\n
 \nBOOK: https://docs.google.com/forms/d/e/1FAIpQLScVjRmjQlxiT0KnDqibWK5IS2
 iMvyxQSTXe0Bxi80cUW3aXTQ/viewform 
CATEGORIES:Online Events
END:VEVENT
BEGIN:VTIMEZONE
TZID:Australia/Melbourne
X-LIC-LOCATION:Australia/Melbourne
BEGIN:DAYLIGHT
DTSTART:20251005T030000
TZOFFSETFROM:+1000
TZOFFSETTO:+1100
TZNAME:AEDT
END:DAYLIGHT
END:VTIMEZONE
END:VCALENDAR